BEGIN:VCALENDAR
VERSION:2.0
PRODID:-//Peterborough Archaeology - ECPv6.15.20//NONSGML v1.0//EN
CALSCALE:GREGORIAN
METHOD:PUBLISH
X-WR-CALNAME:Peterborough Archaeology
X-ORIGINAL-URL:https://peterborougharchaeology.org
X-WR-CALDESC:Events for Peterborough Archaeology
REFRESH-INTERVAL;VALUE=DURATION:PT1H
X-Robots-Tag:noindex
X-PUBLISHED-TTL:PT1H
BEGIN:VTIMEZONE
TZID:UTC
BEGIN:STANDARD
TZOFFSETFROM:+0000
TZOFFSETTO:+0000
TZNAME:UTC
DTSTART:20230101T000000
END:STANDARD
END:VTIMEZONE
BEGIN:VEVENT
DTSTART;VALUE=DATE:20240427
DTEND;VALUE=DATE:20240929
DTSTAMP:20260422T220315
CREATED:20240419T111013Z
LAST-MODIFIED:20240423T113543Z
UID:8071-1714176000-1727567999@peterborougharchaeology.org
SUMMARY:Exhibition: Introducing Must Farm
DESCRIPTION:A window into everyday life 3\,000 years ago \nAn exhibition at Peterborough Museum \nThe Must Farm settlement is an extraordinary slice of everyday life in the Bronze Age. Introducing Must Farm\, a Bronze Age Settlement is a free\, engaging exhibition telling the discovery and stories of a Bronze Age settlement that was abandoned suddenly following a catastrophic fire. \nFRAG has been tracking this project for 10 years and members visited the site during excavation.  \nMust Farm Summary
URL:https://peterborougharchaeology.org/event/exhibition-introducing-must-farm/
CATEGORIES:Non FRAG
ORGANIZER;CN="Peterborough Museum":MAILTO:museum@peterboroughlimited.co.uk
END:VEVENT
BEGIN:VEVENT
DTSTART;TZID=UTC:20240909T190000
DTEND;TZID=UTC:20240909T190000
DTSTAMP:20260422T220315
CREATED:20240829T085342Z
LAST-MODIFIED:20240829T085803Z
UID:8176-1725908400-1725908400@peterborougharchaeology.org
SUMMARY:Peterborough and the Peasants’ Revolt
DESCRIPTION:Peterborough and the Peasants’ Revolt of 1381  \nThe bloody story of a failed medieval revolution! Find out how a popular rising not only led to Wat Tyler marching on London\, but a riot and bloodbath in the heart of our city. \nDiscover why the country went into a near-meltdown in the summer of 1381\, and what happened when the Bishop of Norwich came to quell the riots in Peterborough. \nSpeaker: Stuart Orme\, Curator of the Cromwell Museum in Huntingdon \nFREE for FRAG Members \nNon-members welcome – £5 cash\, payable on the night\n(card payment not currently possible) \nThe Venue for FRAG Talks is: \nUniversity Centre Peterborough\nPark Crescent\nPE1 4DZ \nWhat3words:  https://w3w.co/grants.liner.slime \nThis is NOT the new university building in the centre of the city\, but is on a shared campus with Peterborough College and is accessed from Park Crescent. \nThere is on-site parking available. \nThe lecture theatre is on the first floor; a lift is available. \nGoogle Map
URL:https://peterborougharchaeology.org/event/peterborough-and-the-peasants-revolt/
CATEGORIES:FRAG
ATTACH;FMTTYPE=image/jpeg:https://peterborougharchaeology.org/wp-content/uploads/2024/08/peasants-revolt-wat-tyler.jpg
ORGANIZER;CN="FRAG":MAILTO:enquiries@peterborougharchaeology.org
END:VEVENT
BEGIN:VEVENT
DTSTART;VALUE=DATE:20240912
DTEND;VALUE=DATE:20240918
DTSTAMP:20260422T220315
CREATED:20240811T182635Z
LAST-MODIFIED:20240829T090917Z
UID:8171-1726099200-1726617599@peterborougharchaeology.org
SUMMARY:GEOPHYS - Alconbury Brook
DESCRIPTION:This is the third session of the first season of archaeological investigation at Alconbury Brook organised by Sawtry History Society. \nThe aim of this survey is to determine\, or disprove\, the existence of two Roman roads transiting through the site. The survey area will concentrate on the area north of Alconbury Brook and will consist of 20m x 20m survey squares aligned with the site grid. \nThe survey will also provide an opportunity for individuals to gain or further their experience in geophysical survey. \nIf you are interested in participating in this work please contact Kev Redgate via the Sawtry Archaeology website. \nSawtry Archaeology Events Page
URL:https://peterborougharchaeology.org/event/geophys-alconbury-brook/
CATEGORIES:Non FRAG
ORGANIZER;CN="Sawtry History Society":MAILTO:sawtry.archaeology@yahoo.co.uk
END:VEVENT
BEGIN:VEVENT
DTSTART;TZID=UTC:20240912T193000
DTEND;TZID=UTC:20240912T193000
DTSTAMP:20260422T220315
CREATED:20240906T150410Z
LAST-MODIFIED:20240906T153253Z
UID:8191-1726169400-1726169400@peterborougharchaeology.org
SUMMARY:Must Farm - Crockery and Culinary Practice
DESCRIPTION:Craft\, crockery and culinary practice: exploring the wonders of the Late Bronze Age pottery assemblage from Must Farm \nSpeaker: Matthew Brudenell\, Cambridge Archaeological Unit \nThe excavations at Must Farm led to the recovery of Britain’s most complete and coherent domestic pottery assemblage from a Bronze Age site. The extraordinary preservation has provided new insights into many aspects of pottery production and consumption in this period\, with scientific analysis giving exciting glimpses into what was stored\, cooked and served in different vessels. \nAn online talk organised by Peterborough Museum
URL:https://peterborougharchaeology.org/event/must-farm-cookery/
CATEGORIES:Non FRAG
ORGANIZER;CN="Peterborough Museum":MAILTO:museum@peterboroughlimited.co.uk
END:VEVENT
BEGIN:VEVENT
DTSTART;VALUE=DATE:20240914
DTEND;VALUE=DATE:20240916
DTSTAMP:20260422T220315
CREATED:20240811T180737Z
LAST-MODIFIED:20240811T180939Z
UID:8166-1726272000-1726444799@peterborougharchaeology.org
SUMMARY:St John's Church\, Market Square - OPEN DAYS
DESCRIPTION:St John the Baptist Church in Cathedral Square\, Peterborough is welcoming visitors this September as part of the “Heritage Open Days” programme. \nThere will be a range of activities including information about local history and the archaeology of the church.
URL:https://peterborougharchaeology.org/event/st-johns-church-market-square-open-days/
CATEGORIES:Non FRAG
END:VEVENT
BEGIN:VEVENT
DTSTART;TZID=UTC:20240916T193000
DTEND;TZID=UTC:20240916T193000
DTSTAMP:20260422T220315
CREATED:20240423T113141Z
LAST-MODIFIED:20240423T113408Z
UID:8089-1726515000-1726515000@peterborougharchaeology.org
SUMMARY:Roman Stranger Things at RAF Alconbury
DESCRIPTION:Roman Stranger Things at RAF Alconbury \nPaddy Lambert\, Project Officer\, Oxford Archaeology \nOrganised by Histon & Impington Archaeology Group \nAlso available via Zoom
URL:https://peterborougharchaeology.org/event/8089/
CATEGORIES:Non FRAG
ORGANIZER;CN="HIAG":MAILTO:hisimp.archaeology.group@gmail.com
END:VEVENT
BEGIN:VEVENT
DTSTART;VALUE=DATE:20240921
DTEND;VALUE=DATE:20240923
DTSTAMP:20260422T220315
CREATED:20240906T152421Z
LAST-MODIFIED:20240906T152434Z
UID:8203-1726876800-1727049599@peterborougharchaeology.org
SUMMARY:Bronze Axe/Dagger Casting Workshop
DESCRIPTION:Bronze Axe/Dagger Casting Workshop\nSat 21 Sept or Sun 22 Sep\, 10am-4pm\n£140pp \nTake inspiration from Must Farm and join experimental archaeological Dr James Dilley of Ancient Craft for a day all about Bronze Age metalwork. The process of casting bronze is a fascinating one. The day will begin with a 1-hour introductory talk to metalworking in the Bronze Age. Participants will be taken through the process of sand-mould making before choosing an axe or dagger to make their mould with. Each participant will have the chance to cast liquid bronze into their mould. There will be time to clean\, polish and decorate the templates in the afternoon. \nA hands-on archaeology workshop organised by Peterborough Museum
URL:https://peterborougharchaeology.org/event/bronze-axe-dagger-casting-workshop/
CATEGORIES:Non FRAG
ORGANIZER;CN="Peterborough Museum":MAILTO:museum@peterboroughlimited.co.uk
END:VEVENT
BEGIN:VEVENT
DTSTART;VALUE=DATE:20240922
DTEND;VALUE=DATE:20240923
DTSTAMP:20260422T220315
CREATED:20240906T152755Z
LAST-MODIFIED:20240906T152809Z
UID:8206-1726963200-1727049599@peterborougharchaeology.org
SUMMARY:Bronze Age Jewellery Workshop
DESCRIPTION:Bronze Age Jewellery Workshop\nSun 22 Sep\, 10am-4pm\n£110pp \nOver 56 beads were recovered from the Must Farm settlement\, made from amber\, shale\, siltstone\, tin\, faience and glass. Join experimental archaeologist Emma Jones to learn about the beads and have a go at making replicas of your own using a range of techniques that would have been available to makers over 5000 years ago! The day will begin with a 1-hour introductory talk to jewellery in the Bronze Age. Then create shale and amber beads/pendants\, with the option to make prehistoric cordage from natural fibres to string them. \nA hands-on workshop organised by Peterborough Museum
URL:https://peterborougharchaeology.org/event/bronze-age-jewellery-workshop/
CATEGORIES:Non FRAG
ORGANIZER;CN="Peterborough Museum":MAILTO:museum@peterboroughlimited.co.uk
END:VEVENT
BEGIN:VEVENT
DTSTART;TZID=UTC:20240925T190000
DTEND;TZID=UTC:20240925T190000
DTSTAMP:20260422T220315
CREATED:20240904T170819Z
LAST-MODIFIED:20240904T170943Z
UID:8185-1727290800-1727290800@peterborougharchaeology.org
SUMMARY:Medieval Wisbech
DESCRIPTION:The Development of a Medieval Town – Wisbech \nSpeaker: Dr Michael Gilbert \nA Fenland Archaeological Society Event \nSee poster below with details
URL:https://peterborougharchaeology.org/event/medieval-wisbech/
CATEGORIES:Non FRAG
END:VEVENT
BEGIN:VEVENT
DTSTART;TZID=UTC:20240926T193000
DTEND;TZID=UTC:20240926T193000
DTSTAMP:20260422T220315
CREATED:20240906T150929Z
LAST-MODIFIED:20240906T150944Z
UID:8194-1727379000-1727379000@peterborougharchaeology.org
SUMMARY:Must Farm - How to Build a Roundhouse
DESCRIPTION:How to build a stilted roundhouse \nSpeaker: Mark Knight\, Cambridge Archaeological Unit \nThe charred\, waterlogged remains of the preserved wooden architecture of the Must Farm pile-dwelling settlement included piles\, ring beams\, rafters\, purlins\, floor joists\, wattle floors and walls. Non-wood elements involved clay\, turves and straw. All the components necessary to build a home circa 850BC. The aim of this presentation is to provide a detailed ‘how to build a stilted roundhouse’ instruction manual\, complete with a full list of parts and required tool kit. \nAn online talk organised by Peterborough Museum
URL:https://peterborougharchaeology.org/event/must-farm-how-to-build-a-roundhouse/
CATEGORIES:Non FRAG
ORGANIZER;CN="Peterborough Museum":MAILTO:museum@peterboroughlimited.co.uk
END:VEVENT
BEGIN:VEVENT
DTSTART;TZID=UTC:20240927T193000
DTEND;TZID=UTC:20240927T193000
DTSTAMP:20260422T220316
CREATED:20240906T154404Z
LAST-MODIFIED:20240906T154417Z
UID:8212-1727465400-1727465400@peterborougharchaeology.org
SUMMARY:Medicine & Surgery in the Roman Empire
DESCRIPTION: “With a strong and steady hand”- medicine and surgery in the Roman Empire \nSpeaker: Stuart Orme – Director\, Cromwell Museum\, Huntingdon \nA Midnag Event – to be held at the Glapthorn Room\, Fletton House\, Fletton Way\, Glapthorn Road\, Oundle\, PE8 4JA at 7:30PM
URL:https://peterborougharchaeology.org/event/medicine-surgery-in-the-roman-empire/
CATEGORIES:Non FRAG
END:VEVENT
BEGIN:VEVENT
DTSTART;VALUE=DATE:20240929
DTEND;VALUE=DATE:20240930
DTSTAMP:20260422T220316
CREATED:20240906T161753Z
LAST-MODIFIED:20240906T161809Z
UID:8215-1727568000-1727654399@peterborougharchaeology.org
SUMMARY:Ancient Britain - Manufacturing
DESCRIPTION:The Craft & Manufacture of Goods in Ancient Britain \nA Conference organised by the Upper Nene Archaeological Society (UNAS)
URL:https://peterborougharchaeology.org/event/ancient-britain-manufacturing/
CATEGORIES:Non FRAG
END:VEVENT
END:VCALENDAR