BEGIN:VCALENDAR
VERSION:2.0
PRODID:-//Peterborough Archaeology - ECPv6.15.20//NONSGML v1.0//EN
CALSCALE:GREGORIAN
METHOD:PUBLISH
X-WR-CALNAME:Peterborough Archaeology
X-ORIGINAL-URL:https://peterborougharchaeology.org
X-WR-CALDESC:Events for Peterborough Archaeology
REFRESH-INTERVAL;VALUE=DURATION:PT1H
X-Robots-Tag:noindex
X-PUBLISHED-TTL:PT1H
BEGIN:VTIMEZONE
TZID:UTC
BEGIN:STANDARD
TZOFFSETFROM:+0000
TZOFFSETTO:+0000
TZNAME:UTC
DTSTART:20230101T000000
END:STANDARD
END:VTIMEZONE
BEGIN:VEVENT
DTSTART;VALUE=DATE:20240427
DTEND;VALUE=DATE:20240929
DTSTAMP:20260423T000020
CREATED:20240419T111013Z
LAST-MODIFIED:20240423T113543Z
UID:8071-1714176000-1727567999@peterborougharchaeology.org
SUMMARY:Exhibition: Introducing Must Farm
DESCRIPTION:A window into everyday life 3\,000 years ago \nAn exhibition at Peterborough Museum \nThe Must Farm settlement is an extraordinary slice of everyday life in the Bronze Age. Introducing Must Farm\, a Bronze Age Settlement is a free\, engaging exhibition telling the discovery and stories of a Bronze Age settlement that was abandoned suddenly following a catastrophic fire. \nFRAG has been tracking this project for 10 years and members visited the site during excavation.  \nMust Farm Summary
URL:https://peterborougharchaeology.org/event/exhibition-introducing-must-farm/
CATEGORIES:Non FRAG
ORGANIZER;CN="Peterborough Museum":MAILTO:museum@peterboroughlimited.co.uk
END:VEVENT
END:VCALENDAR