BEGIN:VCALENDAR
VERSION:2.0
PRODID:-//Peterborough Archaeology - ECPv6.15.20//NONSGML v1.0//EN
CALSCALE:GREGORIAN
METHOD:PUBLISH
X-WR-CALNAME:Peterborough Archaeology
X-ORIGINAL-URL:https://peterborougharchaeology.org
X-WR-CALDESC:Events for Peterborough Archaeology
REFRESH-INTERVAL;VALUE=DURATION:PT1H
X-Robots-Tag:noindex
X-PUBLISHED-TTL:PT1H
BEGIN:VTIMEZONE
TZID:UTC
BEGIN:STANDARD
TZOFFSETFROM:+0000
TZOFFSETTO:+0000
TZNAME:UTC
DTSTART:20170101T000000
END:STANDARD
END:VTIMEZONE
BEGIN:VEVENT
DTSTART;TZID=UTC:20190107T190000
DTEND;TZID=UTC:20190107T203000
DTSTAMP:20260420T131052
CREATED:20180815T145623Z
LAST-MODIFIED:20180815T151209Z
UID:4370-1546887600-1546893000@peterborougharchaeology.org
SUMMARY:The Civil War in Peterborough
DESCRIPTION:Not just Roundheads and Cavaliers! Discover the true and horrific story of the English Civil War and its impact upon Peterborough\, including local building\, landscape and recent archaeological clues as to how these tumultuous events affected our city. \nSpeaker: Stuart Orme\, Curator/Museum Manager\, The Cromwell Museum\, Huntingdon \nFREE for FRAG Members \n  \nBackground Reading! \n\nHorsey Hill Fort – Stanground\nPeterborough Cathedral – Civil War Camp Site
URL:https://peterborougharchaeology.org/event/the-civil-war-in-peterborough/
LOCATION:Parkway Sports Club\, Maskew Avenue\, Peterborough\, PE1 2AS
CATEGORIES:FRAG
ATTACH;FMTTYPE=image/jpeg:https://peterborougharchaeology.org/wp-content/uploads/2018/08/cromwell.jpg
ORGANIZER;CN="FRAG":MAILTO:enquiries@peterborougharchaeology.org
END:VEVENT
BEGIN:VEVENT
DTSTART;TZID=UTC:20181211T193000
DTEND;TZID=UTC:20181211T193000
DTSTAMP:20260420T131052
CREATED:20180626T135142Z
LAST-MODIFIED:20180626T135142Z
UID:4292-1544556600-1544556600@peterborougharchaeology.org
SUMMARY:The Golden Lyre of Ur
DESCRIPTION:A Peterborough Museum Society Event
URL:https://peterborougharchaeology.org/event/the-golden-lyre-of-ur/
LOCATION:Peterborough Museum\, 51 Priestgate\, Peterborough\, PE1 1LF
CATEGORIES:Non FRAG
END:VEVENT
BEGIN:VEVENT
DTSTART;TZID=UTC:20181210T190000
DTEND;TZID=UTC:20181210T210000
DTSTAMP:20260420T131052
CREATED:20180709T103021Z
LAST-MODIFIED:20181130T164013Z
UID:4316-1544468400-1544475600@peterborougharchaeology.org
SUMMARY:FRAG Archaeology Quiz
DESCRIPTION:There’s is a bit of festive fun at FRAG in the run up to Christmas. \nOur first ever archaeology quiz will test your knowledge of archaeology – both local and further afield. You can arrange your own team (4-6) – or just come along and we’ll organise groups. \nExpect a range of different types of question including hands on identification. Questions will not be overly demanding! \nPrize for the winners – and nibbles at half time. Refreshments available from the bar. \nFREE for FRAG Members \nA £5 charge applies for non-members.
URL:https://peterborougharchaeology.org/event/frag-archaeology-quiz/
LOCATION:Parkway Sports Club\, Maskew Avenue\, Peterborough\, PE1 2AS
CATEGORIES:FRAG
ATTACH;FMTTYPE=image/jpeg:https://peterborougharchaeology.org/wp-content/uploads/2018/07/xmas-tree-300.jpg
ORGANIZER;CN="FRAG":MAILTO:enquiries@peterborougharchaeology.org
END:VEVENT
BEGIN:VEVENT
DTSTART;TZID=UTC:20181208T100000
DTEND;TZID=UTC:20181208T150000
DTSTAMP:20260420T131052
CREATED:20181130T184128Z
LAST-MODIFIED:20181130T185103Z
UID:4621-1544263200-1544281200@peterborougharchaeology.org
SUMMARY:A14 Archaeology Open Day
DESCRIPTION:A chance to see where archaeologists are excavating at Mill Common near Huntingdon. Evidence has been uncovered regarding Huntingdon’s Roman and Medieval residents\, including a possible Roman road\, animal bones\, and pottery.
URL:https://peterborougharchaeology.org/event/a14-archaeology-open-day/
CATEGORIES:Non FRAG
END:VEVENT
BEGIN:VEVENT
DTSTART;VALUE=DATE:20181207
DTEND;VALUE=DATE:20181211
DTSTAMP:20260420T131052
CREATED:20181130T190409Z
LAST-MODIFIED:20181201T125959Z
UID:4626-1544140800-1544486399@peterborougharchaeology.org
SUMMARY:EXCAVATION - Alconbury Weston
DESCRIPTION:There’s an opportunity for FRAG members to join an excavation being organised by The Sawtry History Society. The dig follows field walking and geophys which suggest Iron Age and Roman settlement at the site. It’s very short notice but the excavation is this weekend and next (30 Nov – 03 Dec and 07 Dec – 10 Dec). Email Kev Redgate if you are interested –  sawtry.archaeology@yahoo.co.uk \nExcavation Details \nSawtry-Application-Form \nPlease note that this is not a FRAG organised event but is available to members through our affiliation to the JIGSAW network of Cambridgshire archaeology groups.
URL:https://peterborougharchaeology.org/event/excavation-alconbury-weston/
CATEGORIES:Non FRAG
ORGANIZER;CN="Sawtry History Society":MAILTO:sawtry.archaeology@yahoo.co.uk
END:VEVENT
BEGIN:VEVENT
DTSTART;VALUE=DATE:20181204
DTEND;VALUE=DATE:20181205
DTSTAMP:20260420T131052
CREATED:20180910T131552Z
LAST-MODIFIED:20180910T131552Z
UID:4537-1543881600-1543967999@peterborougharchaeology.org
SUMMARY:Christmas Colours: identifying the pigments in illuminated manuscripts
DESCRIPTION:A Vivacity Event \nSpeaker: Dr Stella Panayotova\, The Fitzwilliam Museum\, Cambridge
URL:https://peterborougharchaeology.org/event/christmas-colours-identifying-the-pigments-in-illuminated-manuscripts/
LOCATION:Peterborough Museum\, 51 Priestgate\, Peterborough\, PE1 1LF
CATEGORIES:Non FRAG
END:VEVENT
BEGIN:VEVENT
DTSTART;TZID=UTC:20181113T193000
DTEND;TZID=UTC:20181113T193000
DTSTAMP:20260420T131052
CREATED:20180626T134604Z
LAST-MODIFIED:20180626T134604Z
UID:4289-1542137400-1542137400@peterborougharchaeology.org
SUMMARY:Arts and Crafts through the Ages
DESCRIPTION:A Peterborough Museum Society Event
URL:https://peterborougharchaeology.org/event/arts-and-crafts-through-the-ages/
LOCATION:Peterborough Museum\, 51 Priestgate\, Peterborough\, PE1 1LF
CATEGORIES:Non FRAG
END:VEVENT
BEGIN:VEVENT
DTSTART;VALUE=DATE:20181112
DTEND;VALUE=DATE:20181113
DTSTAMP:20260420T131052
CREATED:20180828T174800Z
LAST-MODIFIED:20180828T174913Z
UID:4479-1541980800-1542067199@peterborougharchaeology.org
SUMMARY:Britain's Hidden Landscapes - Dr Francis Pryor
DESCRIPTION:A Peterborough Civic Society Event (AGM + Talk)
URL:https://peterborougharchaeology.org/event/britains-hidden-landscapes-dr-francis-pryor/
END:VEVENT
BEGIN:VEVENT
DTSTART;VALUE=DATE:20181106
DTEND;VALUE=DATE:20181107
DTSTAMP:20260420T131052
CREATED:20180910T130402Z
LAST-MODIFIED:20180910T131150Z
UID:4530-1541462400-1541548799@peterborougharchaeology.org
SUMMARY:The Barnack Beaker Burial: The grave of an important man
DESCRIPTION:A Vivacity Event \nSpeaker: Dr Neil Wilkin\, Curator of Prehistory\, The British Museum
URL:https://peterborougharchaeology.org/event/the-barnack-beaker-burial-the-grave-of-an-important-man/
LOCATION:Peterborough Museum\, 51 Priestgate\, Peterborough\, PE1 1LF
CATEGORIES:Non FRAG
END:VEVENT
BEGIN:VEVENT
DTSTART;TZID=UTC:20181105T190000
DTEND;TZID=UTC:20181105T203000
DTSTAMP:20260420T131052
CREATED:20171104T112323Z
LAST-MODIFIED:20171227T124617Z
UID:3547-1541444400-1541449800@peterborougharchaeology.org
SUMMARY:The Snettisham Hoard
DESCRIPTION:At least 12 separate hoards of artefacts have been discovered at Snettisham\, northwest Norfolk. Collectively they are known as the ‘Snettisham Treasure’ and form the largest deposit of gold\, silver and bronze artefacts dating from the Iron Age found in Europe. \nA combined total of over 200 torcs\, over 100 bracelet and ring ‘ingots’\, large amorphous ingots\, 234 coins and many fragments have been recovered\, with a total weight of over 40 kilograms. In addition to its sheer quantity\, the metalwork is famous for its quality of artistry and workmanship. Most of the hoards were buried 100–60 BC\, and were found towards the centre of a large eight-hectare enclosure. Extensive excavations have failed to establish its purpose or date. \nSpeaker: Dr Jody Joy\, Senior Curator\, Museum of Archaeology & Anthropology\, Cambridge \nFREE for FRAG Members
URL:https://peterborougharchaeology.org/event/the-snettisham-hoard/
LOCATION:Parkway Sports Club\, Maskew Avenue\, Peterborough\, PE1 2AS
CATEGORIES:FRAG
ATTACH;FMTTYPE=image/jpeg:https://peterborougharchaeology.org/wp-content/uploads/2017/11/snettisham-hoard-e1509794561508.jpg
ORGANIZER;CN="FRAG":MAILTO:enquiries@peterborougharchaeology.org
END:VEVENT
BEGIN:VEVENT
DTSTART;VALUE=DATE:20181102
DTEND;VALUE=DATE:20181103
DTSTAMP:20260420T131052
CREATED:20180914T152912Z
LAST-MODIFIED:20180914T152912Z
UID:4551-1541116800-1541203199@peterborougharchaeology.org
SUMMARY:Fields in the Landscape
DESCRIPTION:A MidNAG Event \nSpeaker – Dr Stephen Upex
URL:https://peterborougharchaeology.org/event/fields-in-the-landscape/
CATEGORIES:Non FRAG
END:VEVENT
BEGIN:VEVENT
DTSTART;TZID=UTC:20181030T193000
DTEND;TZID=UTC:20181030T193000
DTSTAMP:20260420T131052
CREATED:20180626T134231Z
LAST-MODIFIED:20180626T134231Z
UID:4285-1540927800-1540927800@peterborougharchaeology.org
SUMMARY:Crosse and Blackwell Excavation and Cross Rail
DESCRIPTION:A Peterborough Museum Society Event
URL:https://peterborougharchaeology.org/event/crosse-and-blackwell-excavation-and-cross-rail-2/
LOCATION:Peterborough Museum\, 51 Priestgate\, Peterborough\, PE1 1LF
CATEGORIES:Non FRAG
END:VEVENT
BEGIN:VEVENT
DTSTART;VALUE=DATE:20181027
DTEND;VALUE=DATE:20181028
DTSTAMP:20260420T131052
CREATED:20180914T154609Z
LAST-MODIFIED:20180914T154656Z
UID:4555-1540598400-1540684799@peterborougharchaeology.org
SUMMARY:With the Eye of Faith: the Archaeology of Religion
DESCRIPTION:CBA East Midlands Conference \nSt Guthlac and Crowland Abbey – Jenny Alexander \nChurches in Leicestershire: is the writing on the wall? – Mike Hawkes \nPilgrim Roots: Mayflower 400\, the Separatists’ Story and Beyond – Anna Scott \nCrafters of Kingship: smithcraft\, gender and elite power in early medieval Europe – Duncan Wright \nRemote Sensing in Buildings Archaeology – Chris Brooke \nHow To Deflect Your Demons: Ritual Protection of Hearth & Home – James Wright \nBreaking bread and breaking heads: the role of the Pax within the late medieval church\n – Matthew Champion
URL:https://peterborougharchaeology.org/event/with-the-eye-of-faith-the-archaeology-of-religion/
CATEGORIES:Non FRAG
END:VEVENT
BEGIN:VEVENT
DTSTART;VALUE=DATE:20181023
DTEND;VALUE=DATE:20181024
DTSTAMP:20260420T131052
CREATED:20180910T130134Z
LAST-MODIFIED:20180910T131108Z
UID:4528-1540252800-1540339199@peterborougharchaeology.org
SUMMARY:Peterborough Abbey and the Peterborough Chronicles
DESCRIPTION:A Vivacity Event \nSpeaker: Dr Nicholas Karn\, Senior Lecturer\, University of Southampton
URL:https://peterborougharchaeology.org/event/peterborough-abbey-and-the-peterborough-chronicles/
LOCATION:Peterborough Museum\, 51 Priestgate\, Peterborough\, PE1 1LF
CATEGORIES:Non FRAG
END:VEVENT
BEGIN:VEVENT
DTSTART;VALUE=DATE:20181019
DTEND;VALUE=DATE:20181023
DTSTAMP:20260420T131052
CREATED:20180826T161450Z
LAST-MODIFIED:20180826T181014Z
UID:4438-1539907200-1540252799@peterborougharchaeology.org
SUMMARY:EXCAVATION - Fane Road Allotments 2018
DESCRIPTION:FANE ROAD ARCHAEOLOGY GROUP (FRAG) – EVALUATION EXCAVATION 19-22 OCTOBER 2018 \nA large Roman villa was discovered in 2011 prior to construction of new houses between Itter Crescent and Fane Road. The Heritage Lottery funded ‘Romans of Fane Road’ excavation was undertaken in 2014. Since then FRAG has undertaken further archaeological excavations on the Fane Road Allotment Site to ascertain the full extent of the building. \nThe aims of previous excavations were to: establish the location of the southern part of the Iron Age enclosure ditch; establish any outlying Roman building foundations; locate and record Roman middens (rubbish tips); and establish the extent of the Roman metalled surface found in October 2015 with students of the Perse School. \nThis year we will be looking to expand on the successful results of test pit 17-1 which was explored in 2017. The dig is undertaken in partnership with the Fane Road Allotments Association (FRAA). \nThe event is FREE for FRAG & FRAA members \nApplication\nIn order to participate download the application form. Scan or photo your completed form then email as indicated. Closing date for applications is 30 Sep 18. Places are limited and applications received from FRAG and FRAA members (and their families) before 9 Sep 18 will be given priority. \nDOWNLOAD APPLICATION FORM \nVenue\nFane Road Allotments\, Fane Road\, Peterborough. Access will be via the gate off the footpath on the Itter Park side of the allotments. \nDates & Times\nFriday (19 Oct 18) – Monday (22 Oct 18) from 8.00am to 4.30pm daily. \nOpen Days\nSaturday (20 Oct 18) and Sunday (21 Oct 18) 11.00am to 4.00pm (further details will be publicised nearer the event). \nFurther Information\nFRAG – Evaluation Excavation 19-22 Oct 18 \nFane Road Roman Villa
URL:https://peterborougharchaeology.org/event/excavation-fane-road-allotments-2018/
CATEGORIES:FRAG
ATTACH;FMTTYPE=image/jpeg:https://peterborougharchaeology.org/wp-content/uploads/2018/08/DJI_0378b-lr2.jpg
ORGANIZER;CN="FRAG":MAILTO:enquiries@peterborougharchaeology.org
END:VEVENT
BEGIN:VEVENT
DTSTART;VALUE=DATE:20181017
DTEND;VALUE=DATE:20181019
DTSTAMP:20260420T131052
CREATED:20180827T220924Z
LAST-MODIFIED:20180828T220822Z
UID:4465-1539734400-1539907199@peterborougharchaeology.org
SUMMARY:TRAINING - Geophys at Itter Park
DESCRIPTION:FANE ROAD ARCHAEOLOGY GROUP (FRAG) – GEOPHYSICAL SURVEY TRAINING 17-18 OCTOBER 2018 \nAfter the success of a similar training session last year we are returning to Itter Park to provide an opportunity to become more familiar with geophysical tools and techniques. Though primarily a training event the area being surveyed is close to the Roman Villa so has the potential to reveal clues about the landscape in which it was located. \nParticipants need to be FRAG members\, or members of JigSaw affiliated groups who can confirm that they are covered by their own group’s insurance \nThe event is FREE for FRAG members \n  \nApplication\nIn order to participate download the application form. Scan or photo your completed form then email as indicated. Closing date for applications is 30 Sep 18. Places are limited and applications received from FRAG members before 9 Sep 18 will be given priority. \nDOWNLOAD APPLICATION FORM \nVenue\nItter Park\, Itter Crescent\, Peterborough. The survey area will be on the southern open space. \nDates & Times\nWednesday (17 Oct 18) – Thursday (18 Oct 18) from 9.00am to 4.00pm daily. \nTraining Format\nThis is the second geophysical survey training to be undertaken on Itter Park and will follow a similar format to the previous session: \n\nPresent a basic overview of geophysical resistivity survey procedures\nAcquaint participants with the survey equipment\nTeach the principles of setting out a geophysical survey grid\nTeach the principles of conducting a geophysical survey\nProvide a hands-on geophysical resistivity survey experience\nProvide an overview of the data handling soft ‘Snuffler’\, data processing\, and results interpretation and analysis; using examples from other surveys\n\nFurther Information\nFRAG – Geophysical Survey Training 17-18 Oct 18 \nItter-Park-Geophysical-Resistivity-Survey-Report-2017
URL:https://peterborougharchaeology.org/event/training-geophys-at-itter-park/
CATEGORIES:FRAG
ATTACH;FMTTYPE=image/jpeg:https://peterborougharchaeology.org/wp-content/uploads/2017/05/geophys-itterpark2-e1535407741533.jpg
ORGANIZER;CN="FRAG":MAILTO:enquiries@peterborougharchaeology.org
END:VEVENT
BEGIN:VEVENT
DTSTART;TZID=UTC:20181001T190000
DTEND;TZID=UTC:20181001T203000
DTSTAMP:20260420T131052
CREATED:20171129T193027Z
LAST-MODIFIED:20180924T112217Z
UID:3628-1538420400-1538425800@peterborougharchaeology.org
SUMMARY:Nassington Roman Barn - Year 3
DESCRIPTION:What started as the excavation of a Roman Barn at Nassington is extending into a broader project about agriculture\, industry and daily life in the Nene valley 2000 years ago. \nOur speaker will be Derek Roberts who is the Director of Excavations for the MidNAG dig. A number of FRAG members participated. \nThis will be the first opportunity to provide feedback on what we have learnt this year. As well as the Roman barn which was exposed in 2016 and 2017 we now have more information from geophys\, aerial photography and the 10 exploratory trenches excavated in August. The project is starting to provide insights into the lives of those living in the Nene valley from late Iron Age through to end of the Roman period. \nSpeaker: Derek Roberts\, Director of Excavations\, MidNAG \nFREE for FRAG members  \nBack to Nassington – 2018
URL:https://peterborougharchaeology.org/event/nassington-roman-barn-year-3/
LOCATION:Parkway Sports Club\, Maskew Avenue\, Peterborough\, PE1 2AS
CATEGORIES:FRAG
ATTACH;FMTTYPE=image/jpeg:https://peterborougharchaeology.org/wp-content/uploads/2017/08/IMAG1960-e1511983795605.jpg
ORGANIZER;CN="FRAG":MAILTO:enquiries@peterborougharchaeology.org
END:VEVENT
BEGIN:VEVENT
DTSTART;VALUE=DATE:20180925
DTEND;VALUE=DATE:20180926
DTSTAMP:20260420T131052
CREATED:20180828T173913Z
LAST-MODIFIED:20180828T173913Z
UID:4476-1537833600-1537919999@peterborougharchaeology.org
SUMMARY:Rectory Farm\, West Deeping - Archaeology Day
DESCRIPTION:West Deeping Heritage Group invites visitors to an exhibition about\, and site tours of\, the Rectory Farm archaeological investigations on Stamford Road.
URL:https://peterborougharchaeology.org/event/rectory-farm-west-deeping-archaeology-day/
CATEGORIES:Non FRAG
END:VEVENT
BEGIN:VEVENT
DTSTART;VALUE=DATE:20180918
DTEND;VALUE=DATE:20180919
DTSTAMP:20260420T131052
CREATED:20180910T125822Z
LAST-MODIFIED:20180910T131011Z
UID:4523-1537228800-1537315199@peterborougharchaeology.org
SUMMARY:Roman Treasures: The importance of Roman Peterborough
DESCRIPTION:A Vivacity Event \nSpeaker: Dr Stephen Upex
URL:https://peterborougharchaeology.org/event/roman-treasures/
LOCATION:Peterborough Museum\, 51 Priestgate\, Peterborough\, PE1 1LF
CATEGORIES:Non FRAG
END:VEVENT
BEGIN:VEVENT
DTSTART;TZID=UTC:20180913T103000
DTEND;TZID=UTC:20180913T160000
DTSTAMP:20260420T131052
CREATED:20180628T095742Z
LAST-MODIFIED:20180628T095742Z
UID:4303-1536834600-1536854400@peterborougharchaeology.org
SUMMARY:PASt Explorers Conference - Peterborough
DESCRIPTION:Portable Antiquities Conference –\nOrganised by British Museum & Portable Antiquities Scheme
URL:https://peterborougharchaeology.org/event/past-explorers-conference-peterborough/
LOCATION:Key Theatre\, Peterborough
CATEGORIES:Non FRAG
END:VEVENT
BEGIN:VEVENT
DTSTART;TZID=UTC:20180903T190000
DTEND;TZID=UTC:20180903T203000
DTSTAMP:20260420T131052
CREATED:20180427T174538Z
LAST-MODIFIED:20180427T180628Z
UID:4158-1536001200-1536006600@peterborougharchaeology.org
SUMMARY:Baston Manor Pit: a middle Bronze Age and Roman landscape
DESCRIPTION:Fieldwork at Baston took place over a 48ha area between 2002 and 2014. The site is located on the western Fen Edge at between 3m and 5m aOD.  \nThe main feature was a middle Bronze Age field system and settlement. A round house\, pits\, wells and a long routeway for moving and sorting cattle were uncovered. Remains of log ladders\, buckets\, and hurdles were also found.  \nA small Roman settlement and routeway linked to the Car Dyke was also excavated. \nSpeaker: Rob Atkins\, Project Manager\, MOLA (Museum of London Archaeology) \nFREE for FRAG Members
URL:https://peterborougharchaeology.org/event/baston-manor-pit-a-middle-bronze-age-and-roman-landscape/
LOCATION:Parkway Sports Club\, Maskew Avenue\, Peterborough\, PE1 2AS
CATEGORIES:FRAG
ATTACH;FMTTYPE=image/jpeg:https://peterborougharchaeology.org/wp-content/uploads/2018/04/baston-iron-age-pit.jpg
ORGANIZER;CN="FRAG":MAILTO:enquiries@peterborougharchaeology.org
END:VEVENT
BEGIN:VEVENT
DTSTART;VALUE=DATE:20180818
DTEND;VALUE=DATE:20180902
DTSTAMP:20260420T131052
CREATED:20180327T135332Z
LAST-MODIFIED:20180828T184050Z
UID:4044-1534550400-1535846399@peterborougharchaeology.org
SUMMARY:EXCAVATION: Nassington Roman Barn Year 3
DESCRIPTION:MidNAG is resuming excavations at Nassington for a third year. \nThere is a large Roman barn which we are trying to understand better.  It is hoped that the 2018 dig will start to tell us more about the occupation and uses of the barn and nearby structures. \nThose interested will need to contact (and be members of) the Middle Nene Archaeology Group. \nFind out how it’s going
URL:https://peterborougharchaeology.org/event/excavation-nassington-roman-barn-year-3/
ATTACH;FMTTYPE=image/jpeg:https://peterborougharchaeology.org/wp-content/uploads/2017/08/DJI_0093-e1522158704809.jpg
END:VEVENT
BEGIN:VEVENT
DTSTART;VALUE=DATE:20180813
DTEND;VALUE=DATE:20180825
DTSTAMP:20260420T131052
CREATED:20180626T133650Z
LAST-MODIFIED:20180709T101347Z
UID:4281-1534118400-1535155199@peterborougharchaeology.org
SUMMARY:EXCAVATION - Ramsey Abbey
DESCRIPTION:Those who attended the talk by Roger Mould on 4th June will know that the Ramsey Abbey Community Project has been successful in securing Heritage Lottery funding following extensive research as they continue to search for the elusive remains of Ramsey Abbey. \nThey are now ready to excavate in August – 13th to 24th.  As the project has been awarded lottery funding a professional company will head up the excavation. They will have three big trenches open aimed at features shown on the resisitivity survey. \nThey would welcome volunteers. \nIf you are interested please contact enquiries@peterborougharchaeology.org \nThe Great Benedictine Abbey of Ramsey was the first of the great religious houses in Eastern Fenland to be founded and in its time one of the most important\, influential and wealthiest Abbey in the Fens. In its heyday it was home to at least 80 Monks\, and behind its walls a renowned school was founded in about 985. For over 500 years the Abbey flourished\, but in 1539 the Abbey was dissolved by Henry VIII.  \nPlease Note this is a Ramsey Abbey Community Project
URL:https://peterborougharchaeology.org/event/excavation-ramsey-abbey/
CATEGORIES:Non FRAG
END:VEVENT
BEGIN:VEVENT
DTSTART;TZID=UTC:20180705T193000
DTEND;TZID=UTC:20180705T193000
DTSTAMP:20260420T131052
CREATED:20171017T185809Z
LAST-MODIFIED:20171017T185809Z
UID:3389-1530819000-1530819000@peterborougharchaeology.org
SUMMARY:From Stamford to Deeping by Canal
DESCRIPTION:This is a Werrington Local History Group event
URL:https://peterborougharchaeology.org/event/stamford-deeping-canal/
LOCATION:Village Centre\, Church Street\, Werrington\, Peterborough\, PE4 6QE
CATEGORIES:Non FRAG
END:VEVENT
BEGIN:VEVENT
DTSTART;TZID=UTC:20180623T100000
DTEND;TZID=UTC:20180623T113000
DTSTAMP:20260420T131052
CREATED:20171005T113539Z
LAST-MODIFIED:20180514T134258Z
UID:3230-1529748000-1529753400@peterborougharchaeology.org
SUMMARY:VISIT: Guided Walk around Castor
DESCRIPTION:Learn about one of the largest buildings in Roman Britain from local authority\, Dr Stephen Upex. \nThe massive Praetorium stood proudly where Castor church now stands. \nFree for FRAG Members\n£5 for Non Members\nREGISTRATION \nTHIS EVENT IS NOW FULL – ANY FURTHER NAMES WILL BE ADDED TO A “WAIT-LIST” \n  \nSpeaker: \nDr Stephen Upex written on a wide variety of topics related to British landscape history and archaeology and his interests range from prehistoric settlement\, Roman and Saxon farming to medieval open fields systems. He has excavated widely and wrote a book on the Romans in the East of England which was published in 2008. A new book on the Romans in the Peterborough area is due to be published soon. Stephen lectures at the University of Cambridge\, is a member of the Chartered Institute for Field Archaeologists and a Fellow of the Society of Antiquaries of London.
URL:https://peterborougharchaeology.org/event/visit-guided-walk-around-castor/
CATEGORIES:FRAG
ATTACH;FMTTYPE=image/jpeg:https://peterborougharchaeology.org/wp-content/uploads/2017/10/Castor-artis-bath-house-e1507203301680.jpg
ORGANIZER;CN="FRAG":MAILTO:enquiries@peterborougharchaeology.org
END:VEVENT
BEGIN:VEVENT
DTSTART;TZID=UTC:20180604T190000
DTEND;TZID=UTC:20180604T203000
DTSTAMP:20260420T131052
CREATED:20171227T122444Z
LAST-MODIFIED:20171227T122747Z
UID:3669-1528138800-1528144200@peterborougharchaeology.org
SUMMARY:Ramsey Abbey - the elusive remains of an extensive site
DESCRIPTION:In April 2017 Ramsey Abbey Community Project was born. What have we discovered and what has the project added to our knowledge of the site? \nThe Great Benedictine Abbey of Ramsey was the first of the great religious houses in Eastern Fenland to be founded and in its time one of the most important\, influential and wealthiest Abbey in the Fens.  In its heyday it was home to at least 80 Monks\, and behind its walls a renowned school was founded in about 985. \nFor over 500 years the Abbey flourished\, but in 1539 the Abbey was dissolved by Henry VIII. Today there is very little to see of the once great Abbey\, only a wonderful 15th Century Abbey Gate House. \nSpeaker: Roger Mould\, Ramsey Abbey Community Project \nFREE for FRAG Members \nRoger started his archaeology life at Fane Road and launched the Warboys Archaeology Project in 2012. The Ramsey Abbey project is the latest of the team’s work.
URL:https://peterborougharchaeology.org/event/ramsey-abbey-elusive-remains-extensive-site/
LOCATION:Parkway Sports Club\, Maskew Avenue\, Peterborough\, PE1 2AS
CATEGORIES:FRAG
ATTACH;FMTTYPE=image/jpeg:https://peterborougharchaeology.org/wp-content/uploads/2017/12/ramsey-abbey-e1514377453685.jpg
ORGANIZER;CN="FRAG":MAILTO:enquiries@peterborougharchaeology.org
END:VEVENT
BEGIN:VEVENT
DTSTART;VALUE=DATE:20180602
DTEND;VALUE=DATE:20180604
DTSTAMP:20260420T131052
CREATED:20180528T165245Z
LAST-MODIFIED:20180528T165355Z
UID:4249-1527897600-1528070399@peterborougharchaeology.org
SUMMARY:Villainous Vikings
DESCRIPTION:This is a Vivacity event at Flag Fen
URL:https://peterborougharchaeology.org/event/villainous-vikings/
END:VEVENT
BEGIN:VEVENT
DTSTART;TZID=UTC:20180519T193000
DTEND;TZID=UTC:20180519T193000
DTSTAMP:20260420T131052
CREATED:20180427T182915Z
LAST-MODIFIED:20180427T182915Z
UID:4166-1526758200-1526758200@peterborougharchaeology.org
SUMMARY:The Napoleonic Prison Camp of Norman Cross
DESCRIPTION:This is a Vivacity event
URL:https://peterborougharchaeology.org/event/the-napoleonic-prison-camp-of-norman-cross/
CATEGORIES:Non FRAG
END:VEVENT
BEGIN:VEVENT
DTSTART;TZID=UTC:20180514T190000
DTEND;TZID=UTC:20180514T203000
DTSTAMP:20260420T131052
CREATED:20171125T133554Z
LAST-MODIFIED:20171227T124430Z
UID:3615-1526324400-1526329800@peterborougharchaeology.org
SUMMARY:A14 Cambridge to Huntingdon - Latest Archaeology News
DESCRIPTION:The UK’s biggest road construction project involves excavation on a massive scale – 10 million m³. \nRoad widening\, new junctions and a 17-mile bypass south of Huntingdon carve through an archaeological  landscape covering all periods from the earliest hunter-gatherers to WWII. The investigation and mitigation work by MOLA is on a corresponding scale and is due to complete March 2018. \n  \n  \n\n537 trial trenches\n800 ha of potential archaeology\n80 archaeological sites\n130 staff\n\nMore than 25 settlements have been uncovered\, including: Iron Age\, Roman\, Saxon and Medieval sites. \nHelen O’Hara will provide an overview of the archaeology arising from the project. There will be specific focus on a Saxon and a Roman site. \nSpeaker: Helen O’Hara\, Senior Community Archaeologist\, MOLA Headland Infrastructure \nFREE ADMISSION\nBoth FRAG and non FRAG Members \nMOLA Headland Infrastructure is supporting this event as part of their community outreach programme
URL:https://peterborougharchaeology.org/event/a14-cambridge-huntingdon-latest-archaeology-news/
LOCATION:Parkway Sports Club\, Maskew Avenue\, Peterborough\, PE1 2AS
CATEGORIES:FRAG
ATTACH;FMTTYPE=image/jpeg:https://peterborougharchaeology.org/wp-content/uploads/2017/11/a14-aerial.jpg
ORGANIZER;CN="FRAG":MAILTO:enquiries@peterborougharchaeology.org
END:VEVENT
BEGIN:VEVENT
DTSTART;TZID=UTC:20180504T193000
DTEND;TZID=UTC:20180504T193000
DTSTAMP:20260420T131052
CREATED:20170924T181640Z
LAST-MODIFIED:20170924T181640Z
UID:3109-1525462200-1525462200@peterborougharchaeology.org
SUMMARY:The Archaeology of Peakirk
DESCRIPTION:A MidNAG event
URL:https://peterborougharchaeology.org/event/the-archaeology-of-peakirk/
LOCATION:Oundle Methodist Church\, Drumming Well Lane\, Oundle\, PE8 4AA
CATEGORIES:Non FRAG
END:VEVENT
END:VCALENDAR