BEGIN:VCALENDAR
VERSION:2.0
PRODID:-//Peterborough Archaeology - ECPv6.15.20//NONSGML v1.0//EN
CALSCALE:GREGORIAN
METHOD:PUBLISH
X-WR-CALNAME:Peterborough Archaeology
X-ORIGINAL-URL:https://peterborougharchaeology.org
X-WR-CALDESC:Events for Peterborough Archaeology
REFRESH-INTERVAL;VALUE=DURATION:PT1H
X-Robots-Tag:noindex
X-PUBLISHED-TTL:PT1H
BEGIN:VTIMEZONE
TZID:UTC
BEGIN:STANDARD
TZOFFSETFROM:+0000
TZOFFSETTO:+0000
TZNAME:UTC
DTSTART:20180101T000000
END:STANDARD
END:VTIMEZONE
BEGIN:VEVENT
DTSTART;VALUE=DATE:20190924
DTEND;VALUE=DATE:20190925
DTSTAMP:20260420T111755
CREATED:20190515T102954Z
LAST-MODIFIED:20190923T204648Z
UID:4969-1569283200-1569369599@peterborougharchaeology.org
SUMMARY:The Making of Georgian Stamford
DESCRIPTION:A Stamford Arts Centre Event \nPhilippa Massey explores Stamford during the reigns of George I to George IV\, from 1714 – 1830.
URL:https://peterborougharchaeology.org/event/the-making-of-georgian-stamford/
CATEGORIES:Non FRAG
ORGANIZER;CN="Stamford Arts Centre":MAILTO:boxoffice@stamfordartscentre.com
END:VEVENT
BEGIN:VEVENT
DTSTART;VALUE=DATE:20190905
DTEND;VALUE=DATE:20190906
DTSTAMP:20260420T111755
CREATED:20190515T102628Z
LAST-MODIFIED:20190515T102628Z
UID:4967-1567641600-1567727999@peterborougharchaeology.org
SUMMARY:Castle Construction\, Conquest & Compensation
DESCRIPTION:A Stamford Arts Centre Event \nA talk by Dr David Roffe who collaborated with Miss Mahany on the important excavation of Stamford Castle from 1972 – 1976 as well as other archaeological projects in the area.
URL:https://peterborougharchaeology.org/event/castle-construction-conquest-compensation/
ORGANIZER;CN="Stamford Arts Centre":MAILTO:boxoffice@stamfordartscentre.com
END:VEVENT
BEGIN:VEVENT
DTSTART;TZID=UTC:20190902T190000
DTEND;TZID=UTC:20190902T203000
DTSTAMP:20260420T111755
CREATED:20190107T161529Z
LAST-MODIFIED:20190314T173325Z
UID:4719-1567450800-1567456200@peterborougharchaeology.org
SUMMARY:Peterborough Cathedral - Back From the Flames
DESCRIPTION:The talk is about Peterborough Cathedral’s recovery from the 2001 fire and the job of cleaning and restoration.  \nSpeaker: Nicholas Drewett \nNick Drewett was Head Verger of Peterborough Cathedral for 24 years before retiring 4 years ago.  \nFREE for FRAG Members
URL:https://peterborougharchaeology.org/event/peterborough-cathedral-back-from-the-flames/
LOCATION:Parkway Sports Club\, Maskew Avenue\, Peterborough\, PE1 2AS
CATEGORIES:FRAG
ATTACH;FMTTYPE=image/jpeg:https://peterborougharchaeology.org/wp-content/uploads/2019/01/cathedral-fire.jpg
ORGANIZER;CN="FRAG":MAILTO:enquiries@peterborougharchaeology.org
END:VEVENT
BEGIN:VEVENT
DTSTART;VALUE=DATE:20190831
DTEND;VALUE=DATE:20190902
DTSTAMP:20260420T111755
CREATED:20190626T174535Z
LAST-MODIFIED:20190626T174535Z
UID:5090-1567209600-1567382399@peterborougharchaeology.org
SUMMARY:Collyweston Palace Weekend
DESCRIPTION:The Collyweston Historical Society have a range of talks and events to reveal the findings of their project to find the 15th Century Royal Palace.
URL:https://peterborougharchaeology.org/event/collyweston-palace-weekend/
CATEGORIES:Non FRAG
END:VEVENT
BEGIN:VEVENT
DTSTART;VALUE=DATE:20190817
DTEND;VALUE=DATE:20190901
DTSTAMP:20260420T111755
CREATED:20190301T093856Z
LAST-MODIFIED:20190827T204250Z
UID:4883-1566000000-1567295999@peterborougharchaeology.org
SUMMARY:EXCAVATION: Nassington Roman Barn Year 4
DESCRIPTION:MidNAG is resuming excavations at Nassington for a fourth year. \nThe first two years were all about understanding a large Roman barn. Last year we explored archaeological features in the surrounding landscape. This year the team is returning to unearth more. \nThose interested will need to contact (and be members of) the Middle Nene Archaeology Group. \n2019 Progress Report – Nassington Ditch Hunt \nRead the 2018 Dig Diary
URL:https://peterborougharchaeology.org/event/excavation-nassington-roman-barn-year-4/
CATEGORIES:Non FRAG
ATTACH;FMTTYPE=image/jpeg:https://peterborougharchaeology.org/wp-content/uploads/2017/08/DJI_0093-e1522158704809.jpg
END:VEVENT
BEGIN:VEVENT
DTSTART;VALUE=DATE:20190727
DTEND;VALUE=DATE:20190729
DTSTAMP:20260420T111755
CREATED:20190701T171859Z
LAST-MODIFIED:20190701T172007Z
UID:5096-1564185600-1564358399@peterborougharchaeology.org
SUMMARY:Festival of Archaeology - Flag Fen
DESCRIPTION:Get stuck in to an archaeological adventure at Flag Fen as part of the national Festival of Archaeology.  Unearth treasures in the dig tent\, have a go at making natural clothes dyes in our Bronze Age roundhouse and write with some Roman ink! Plus enjoy tours\, crafts and trails. \nThis is a Vivacity event.
URL:https://peterborougharchaeology.org/event/festival-of-archaeology-flag-fen/
CATEGORIES:Non FRAG
END:VEVENT
BEGIN:VEVENT
DTSTART;TZID=UTC:20190622T100000
DTEND;TZID=UTC:20190622T123000
DTSTAMP:20260420T111755
CREATED:20181203T220310Z
LAST-MODIFIED:20190502T092827Z
UID:4648-1561197600-1561206600@peterborougharchaeology.org
SUMMARY:WALK: Durobrivae - The Walled Town of Roman Peterborough
DESCRIPTION:Join a guided walk across Durobrivae\, the walled town of Roman Peterborough. \nA recent geophysical survey and a programme of further archaeological exploration promise to reveal a great deal more about our Roman town. \nOur walk will be led by Dr Stephen Upex. \nThere is an allocation of free of charge places for FRAG members. Others will be joining for a fee of £7.50 per person. \nRegister your interest in joining the Walk by completing the form below. \nIf we need to limit numbers this will be on a first come first served basis. \nJoining instructions will be sent by email. \nNB We have now reached the maximum number of participants for this event. However do complete the form below if you would like to be added to the Wait List.  We will aim to let you know status 1 to 2 weeks prior to the walk. \n\n\n  \n\n\n\nFirst Name (required)\n \n \nLast Name (required)\n \n \nEmail (required)\n \n \nPhone Number (required)\n \n \nAre you a FRAG member? (required)\nYesNo\n \n Any Other Information eg Names & Details for Partner or Guest\n \n \n\n Δ ×
URL:https://peterborougharchaeology.org/event/walk-durobrivae-the-walled-town-of-roman-peterborough/
CATEGORIES:FRAG
ATTACH;FMTTYPE=image/jpeg:https://peterborougharchaeology.org/wp-content/uploads/2018/12/DJI_0306-lr.jpg
ORGANIZER;CN="FRAG":MAILTO:enquiries@peterborougharchaeology.org
END:VEVENT
BEGIN:VEVENT
DTSTART;VALUE=DATE:20190615
DTEND;VALUE=DATE:20190617
DTSTAMP:20260420T111755
CREATED:20190515T100649Z
LAST-MODIFIED:20190515T100649Z
UID:4964-1560556800-1560729599@peterborougharchaeology.org
SUMMARY:Peterborough Heritage Festival
DESCRIPTION:Peterborough Heritage Festival is the UK’s largest multi-period city centre living history festival. This year it returns to Cathedral Square in the city centre for another year of traditional family fun. \n\nOver 300 re-enactors\nOver 3\,000 years of history\nOver 30\,000 people\nA FREE day out for all ages\n\nFRAG will be there along with other local archaeology organisations\, MidNAG and the Nene Valley Archaeological Trust
URL:https://peterborougharchaeology.org/event/peterborough-heritage-festival-2/
CATEGORIES:FRAG
ATTACH;FMTTYPE=image/jpeg:https://peterborougharchaeology.org/wp-content/uploads/2019/05/heritage-festival.jpg
END:VEVENT
BEGIN:VEVENT
DTSTART;TZID=UTC:20190603T190000
DTEND;TZID=UTC:20190603T203000
DTSTAMP:20260420T111755
CREATED:20181203T182920Z
LAST-MODIFIED:20181203T183406Z
UID:4643-1559588400-1559593800@peterborougharchaeology.org
SUMMARY:Paradise Found? Archaeology of Bahrain
DESCRIPTION:More details of this talk to follow. \nSpeaker: Michael W Olney \nMichael read Archaeology and Ancient History of Western Asia at the Institute of Archaeology\, UCL. \nFREE for FRAG Members
URL:https://peterborougharchaeology.org/event/paradise-found-archaeology-of-bahrain/
LOCATION:Parkway Sports Club\, Maskew Avenue\, Peterborough\, PE1 2AS
CATEGORIES:FRAG
ORGANIZER;CN="FRAG":MAILTO:enquiries@peterborougharchaeology.org
END:VEVENT
BEGIN:VEVENT
DTSTART;VALUE=DATE:20190518
DTEND;VALUE=DATE:20190519
DTSTAMP:20260420T111755
CREATED:20190107T162721Z
LAST-MODIFIED:20190417T200235Z
UID:4722-1558137600-1558223999@peterborougharchaeology.org
SUMMARY:WALK: The Stamford Canal
DESCRIPTION:Join a walk along a section of the Stamford Canal with local authority\, Maggie Ashcroft. \nThe canal was one of the earliest in the country\, constructed in 1670. It is still possible to to identify the course of the canal and see bridges\, locks and other features amongst the undergrowth. \nThe walk will include the section of the canal near Uffington. It will involve a circular country walk of about 4 miles. There is rough and uneven ground which may be slippy if wet. We will meet at 10am and finish at a pub for those who would like refreshment! \nFREE for FRAG Members & WDHG Attendees – £5 for Non members \nTo register your interest in joining the Guided Walk please complete the form below. Rex Gibson will be in touch with joining instructions by email. \nIf we need to limit numbers this will be on a first come first served basis. \nPayment for non members will be collected on the day.\n\n\n  \n\n\n\nFirst Name (required)\n \n \nLast Name (required)\n \n \nEmail (required)\n \n \nPhone Number (required)\n \n \nAre you a FRAG member? (required)\nYesNo\n \nAre you a WDHG Attendee? (required)\nYesNo\n \n Any Other Information eg Names & Details for Partner or Guest\n \n \n\n Δ ×\n\n\n \nThere is a mine of information about the Canal on the West Deeping Heritage Group website
URL:https://peterborougharchaeology.org/event/walk-the-stamford-canal/
CATEGORIES:FRAG
ATTACH;FMTTYPE=image/jpeg:https://peterborougharchaeology.org/wp-content/uploads/2019/01/deeping-canal-lighter.jpg
END:VEVENT
BEGIN:VEVENT
DTSTART;VALUE=DATE:20190517
DTEND;VALUE=DATE:20190521
DTSTAMP:20260420T111755
CREATED:20190120T151425Z
LAST-MODIFIED:20190408T095806Z
UID:4742-1558051200-1558396799@peterborougharchaeology.org
SUMMARY:EXCAVATION: Fane Road Allotments - Roman Villa
DESCRIPTION:FANE ROAD ARCHAEOLOGY GROUP (FRAG) – EVALUATION EXCAVATION \nA large Roman villa was discovered in 2011 prior to construction of new houses between Itter Crescent and Fane Road. The Heritage Lottery funded ‘Romans of Fane Road’ excavation was undertaken in 2014. Since then FRAG has undertaken further archaeological excavations on the Fane Road Allotment Site to ascertain the full extent of the building. \nThis year we will be looking to expand on the successful results of test pit 17-1 which was explored in 2017. \nFRAG Members Only\n(though members of FR Allotment Association\, and JIGSAW affiliated groups may also participate) \nIf you are interested to participate please download the application form and submit to fieldofficer@peterborougharchaeology.org. Kevin Redgate will be in touch. \nVenue\nFane Road Allotments\, Fane Road\, Peterborough. Access will be via the gate off the footpath on the Itter Park side of the allotments. \nDates & Times\nFriday (17 May 19) – Monday (20 Oct 19) from 8.00am to 4.30pm daily. \nOpen Days\nSaturday (18 May 19) and Sunday (19 May 19) 11.00am to 4.00pm (further details nearer the event). \nExcavation Strategy\nUnfortunately\, and disappointingly\, the excavation planned for Oct 18 was cancelled at short notice due to circumstances beyond the control of FRAG Field Officers. This\, therefore\, will again be the seventh season of archaeological excavations on the Fane Road Allotment Site. In addition\, the Heritage Lottery funded ‘Romans of Fane Road’ excavation was undertaken in 2014. The aims of previous excavations were to; establish the location of the southern part of the Iron Age enclosure ditch\, establish any outlying Roman building foundations\, locate and record Roman middens (rubbish tips) and establish the extent of the Roman metalled surface found in October 2015 with students of the Perse School. Last year the test pits from previous seasons that produced results requiring further investigation were revisited. This year the intent is to expand on the successful results of test pit 17-1. \nFurther Information \nApplication\nClosing date for application forms is 10 May 19; however\, applications received from FRAG and Fane Road Allotment Association members (and their families) before 26 Apr 19 will be given preferred participation. \nDownload Application Form \n 
URL:https://peterborougharchaeology.org/event/excavation-f/
LOCATION:Fane Road Allotments\, PE4 6SW
CATEGORIES:FRAG
ATTACH;FMTTYPE=image/jpeg:https://peterborougharchaeology.org/wp-content/uploads/2018/08/DJI_0378b-lr2.jpg
ORGANIZER;CN="FRAG":MAILTO:enquiries@peterborougharchaeology.org
END:VEVENT
BEGIN:VEVENT
DTSTART;TZID=UTC:20190513T190000
DTEND;TZID=UTC:20190513T203000
DTSTAMP:20260420T111755
CREATED:20190107T155108Z
LAST-MODIFIED:20190326T215209Z
UID:4713-1557774000-1557779400@peterborougharchaeology.org
SUMMARY:Lost and Found: Grave Goods of the Abbots of Peterborough
DESCRIPTION:This talk draws on recent research by the speaker on the thirteenth-century Benedictine Abbots of Peterborough\, and the funerary culture associated with the monastery. \nSpeaker: Hannah Saunders \nHannah is an Artist and Medieval Art Historian currently based in Cambridgeshire. In 2015 she completed her BA HONS in Documentary Photography at The University of Wales\, Newport\, and in 2018 she graduated from The Courtauld Institute of Art with an MA specialising in The Supernatural Middle Ages. \nFREE for FRAG Members
URL:https://peterborougharchaeology.org/event/advancing-the-happy-dead/
LOCATION:Parkway Sports Club\, Maskew Avenue\, Peterborough\, PE1 2AS
CATEGORIES:FRAG
ATTACH;FMTTYPE=image/jpeg:https://peterborougharchaeology.org/wp-content/uploads/2019/01/peterborough-abbot-alexander.jpg
ORGANIZER;CN="FRAG":MAILTO:enquiries@peterborougharchaeology.org
END:VEVENT
BEGIN:VEVENT
DTSTART;VALUE=DATE:20190508
DTEND;VALUE=DATE:20190509
DTSTAMP:20260420T111755
CREATED:20190227T093545Z
LAST-MODIFIED:20190227T093545Z
UID:4871-1557273600-1557359999@peterborougharchaeology.org
SUMMARY:Ely Cathedral - its History and Symbolism
DESCRIPTION:A Civic Society Event
URL:https://peterborougharchaeology.org/event/ely-cathedral-its-history-and-symbolism/
CATEGORIES:Non FRAG
END:VEVENT
BEGIN:VEVENT
DTSTART;TZID=UTC:20190418T100000
DTEND;TZID=UTC:20190418T123000
DTSTAMP:20260420T111755
CREATED:20190331T162125Z
LAST-MODIFIED:20190331T173930Z
UID:4916-1555581600-1555590600@peterborougharchaeology.org
SUMMARY:Metal Detecting near Bainton
DESCRIPTION:There is an opportunity for FRAG members to take part in a metal detecting survey on a field near Bainton. This is a continuation of previous detecting there – though this time the emphasis will be on those with their own metal detectors as we will only have a couple spare. \nThe event is being organised by Sue Deoraj with the assistance of Steve Critchley. It is planned to take place for a couple of hours on Thursday 18th April. Numbers will need to be capped at 10. \nFRAG Members Only \nIf you wish to participate or want more information please contact Sue using the form below: \n\n\n  \n\n\n\nFirst Name (required)\n \n \nLast Name (required)\n \n \nEmail (required)\n \n \nPhone Number (required)\n \n \n Any Other Information\n \n \n\n Δ ×
URL:https://peterborougharchaeology.org/event/metal-detecting-near-bainton/
CATEGORIES:FRAG
ORGANIZER;CN="FRAG":MAILTO:enquiries@peterborougharchaeology.org
END:VEVENT
BEGIN:VEVENT
DTSTART;VALUE=DATE:20190413
DTEND;VALUE=DATE:20190414
DTSTAMP:20260420T111755
CREATED:20190119T092857Z
LAST-MODIFIED:20190119T092857Z
UID:4733-1555113600-1555199999@peterborougharchaeology.org
SUMMARY:CONFERENCE: Understanding Fenland Landscape & Society
DESCRIPTION:Understanding Fenland Landscape and Society: Past and Present \nThis one-day symposium in Spalding will give attendees insights into the latest research into the landscape and society of the Fenland from the Roman to the Early Modern period. It will also highlight the role of Spalding Gentlemen’s Society as a centre for local research and highlight recent projects that have developed out of the Society’s museum\, library and archive collections.  \nFull details including registration can be found on the Society’s website. \nThis is a Spalding Gentlemen’s Society event
URL:https://peterborougharchaeology.org/event/conference-understanding-fenland-landscape-society/
CATEGORIES:Non FRAG
ORGANIZER;CN="Spalding Gentlemen%E2%80%99s Society":MAILTO:info@sgsoc.org
END:VEVENT
BEGIN:VEVENT
DTSTART;TZID=UTC:20190408T190000
DTEND;TZID=UTC:20190408T203000
DTSTAMP:20260420T111755
CREATED:20180924T102104Z
LAST-MODIFIED:20190326T213855Z
UID:4589-1554750000-1554755400@peterborougharchaeology.org
SUMMARY:Itter Crescent Roman Villa & AGM
DESCRIPTION:A review of what we know about the Roman villa located between Itter Crescent and Fane Road in Peterborough. This will include an update on what was learnt from the exploratory excavtion in October 2018. \nSpeakers: FRAG Team \nFREE for FRAG Members \n  \n  \nThe FRAG Annual General Meeting will follow at about 8pm. All are welcome to attend and help shape the development of the group. \nAGM Agenda
URL:https://peterborougharchaeology.org/event/itter-crescent-roman-villa-agm/
LOCATION:Parkway Sports Club\, Maskew Avenue\, Peterborough\, PE1 2AS
CATEGORIES:FRAG
ATTACH;FMTTYPE=image/jpeg:https://peterborougharchaeology.org/wp-content/uploads/2018/09/fane-road-roman-artist-200.jpg
ORGANIZER;CN="FRAG":MAILTO:enquiries@peterborougharchaeology.org
END:VEVENT
BEGIN:VEVENT
DTSTART;VALUE=DATE:20190406
DTEND;VALUE=DATE:20190407
DTSTAMP:20260420T111755
CREATED:20190227T092502Z
LAST-MODIFIED:20190227T092502Z
UID:4865-1554508800-1554595199@peterborougharchaeology.org
SUMMARY:Northamptonshire Archaeological Review
DESCRIPTION:A Council for British Archaeology: South Midlands Event \nAnnual review of Northamptonshire archaeology to be held at Bugbrooke\, Northampton.
URL:https://peterborougharchaeology.org/event/northamptonshire-archaeological-review/
CATEGORIES:Non FRAG
END:VEVENT
BEGIN:VEVENT
DTSTART;TZID=UTC:20190402T193000
DTEND;TZID=UTC:20190402T193000
DTSTAMP:20260420T111755
CREATED:20180626T135850Z
LAST-MODIFIED:20180626T135850Z
UID:4301-1554233400-1554233400@peterborougharchaeology.org
SUMMARY:Recent Work and Ideas on Durobrivae
DESCRIPTION:A Peterborough Museum Society Event
URL:https://peterborougharchaeology.org/event/recent-work-and-ideas-on-durobrivae/
LOCATION:Peterborough Museum\, 51 Priestgate\, Peterborough\, PE1 1LF
CATEGORIES:Non FRAG
END:VEVENT
BEGIN:VEVENT
DTSTART;VALUE=DATE:20190330
DTEND;VALUE=DATE:20190331
DTSTAMP:20260420T111755
CREATED:20181201T145225Z
LAST-MODIFIED:20190227T155317Z
UID:4637-1553904000-1553990399@peterborougharchaeology.org
SUMMARY:CONFERENCE - Your Roman Past
DESCRIPTION:This is a Nene Valley Archaeological Trust event \nFULL DETAILS
URL:https://peterborougharchaeology.org/event/conference-your-roman-past/
LOCATION:Castor CE School\, Stocks Hill\, Castor\, PE5 7AY
CATEGORIES:Non FRAG
END:VEVENT
BEGIN:VEVENT
DTSTART;VALUE=DATE:20190320
DTEND;VALUE=DATE:20190321
DTSTAMP:20260420T111755
CREATED:20190227T093844Z
LAST-MODIFIED:20190227T093844Z
UID:4873-1553040000-1553126399@peterborougharchaeology.org
SUMMARY:Boudica of the Iceni
DESCRIPTION:A Stamford Arts Centre Event
URL:https://peterborougharchaeology.org/event/boudica-of-the-iceni/
CATEGORIES:Non FRAG
ORGANIZER;CN="Stamford Arts Centre":MAILTO:boxoffice@stamfordartscentre.com
END:VEVENT
BEGIN:VEVENT
DTSTART;TZID=UTC:20190319T193000
DTEND;TZID=UTC:20190319T193000
DTSTAMP:20260420T111755
CREATED:20180626T135710Z
LAST-MODIFIED:20180626T135710Z
UID:4298-1553023800-1553023800@peterborougharchaeology.org
SUMMARY:‘The Captain Cook Collection’ Cambridge Museum of Archaeology & Anthropology
DESCRIPTION:A Peterborough Museum Society Event
URL:https://peterborougharchaeology.org/event/the-captain-cook-collection-cambridge-museum-of-archaeology-anthropology/
LOCATION:Peterborough Museum\, 51 Priestgate\, Peterborough\, PE1 1LF
CATEGORIES:Non FRAG
END:VEVENT
BEGIN:VEVENT
DTSTART;TZID=UTC:20190315T193000
DTEND;TZID=UTC:20190315T193000
DTSTAMP:20260420T111755
CREATED:20190227T092926Z
LAST-MODIFIED:20190227T092926Z
UID:4867-1552678200-1552678200@peterborougharchaeology.org
SUMMARY:The Archaeology of the Oundle Area
DESCRIPTION:A MidNAG Event \nA talk by Dr Stephen Upex which will help raise funds for the Nassington excavation.
URL:https://peterborougharchaeology.org/event/the-archaeology-of-the-oundle-area/
CATEGORIES:Non FRAG
END:VEVENT
BEGIN:VEVENT
DTSTART;VALUE=DATE:20190311
DTEND;VALUE=DATE:20190312
DTSTAMP:20260420T111755
CREATED:20190227T093423Z
LAST-MODIFIED:20190227T093423Z
UID:4869-1552262400-1552348799@peterborougharchaeology.org
SUMMARY:The Roman Soldier from Invasion to Withdrawal
DESCRIPTION:A Peterborough Civic Society Event
URL:https://peterborougharchaeology.org/event/the-roman-soldier-from-invasion-to-withdrawal/
CATEGORIES:Non FRAG
END:VEVENT
BEGIN:VEVENT
DTSTART;TZID=UTC:20190304T190000
DTEND;TZID=UTC:20190304T203000
DTSTAMP:20260420T111755
CREATED:20180815T172852Z
LAST-MODIFIED:20180828T175113Z
UID:4385-1551726000-1551731400@peterborougharchaeology.org
SUMMARY:Prehistoric Settlement in the Welland Valley
DESCRIPTION:The Welland valley was a focus for prehistoric settlement\, just as was the case in the Nene valley. \nArchaeologists are piecing together the scant evidence – often drawn from excavations in advance of gravel extraction which then removes all traces. Find out about the most recent research. \nAndrew Hatton was involved with the 1990s excavation at Stowe Farm near Greatford and has recently completed a review of Bronze Age field systems located along the Welland Valley as part of studying for his MPhil. The aim of the research was to place the site at Stowe Farm\, Lincolnshire\, in a local and regional context. \nSpeaker: Andrew (Bob) Hatton\, BA (Hons) Course Leader – University Centre Peterborough \nFREE for FRAG Members
URL:https://peterborougharchaeology.org/event/bronze-age-settlement-in-the-welland-valley/
LOCATION:Parkway Sports Club\, Maskew Avenue\, Peterborough\, PE1 2AS
CATEGORIES:FRAG
ATTACH;FMTTYPE=image/jpeg:https://peterborougharchaeology.org/wp-content/uploads/2018/08/bronze-age-field-systems-welland-bank-quarry-2.jpg
ORGANIZER;CN="FRAG":MAILTO:enquiries@peterborougharchaeology.org
END:VEVENT
BEGIN:VEVENT
DTSTART;TZID=UTC:20190215T193000
DTEND;TZID=UTC:20190215T193000
DTSTAMP:20260420T111755
CREATED:20190104T162615Z
LAST-MODIFIED:20190107T154016Z
UID:4702-1550259000-1550259000@peterborougharchaeology.org
SUMMARY:Excavations at Nassington 2018
DESCRIPTION:If you missed Derek’s talk in October there’s another opportunity to catch up with the Nassington excavation of a Roman barn and its surrounds. \nSpeaker: Derek Roberts\, Archaeological Director \nThis is a MidNag event \n2018 Dig Diary
URL:https://peterborougharchaeology.org/event/excavations-at-nassington-2018/
LOCATION:Nassington Village Hall
CATEGORIES:Non FRAG
END:VEVENT
BEGIN:VEVENT
DTSTART;VALUE=DATE:20190207
DTEND;VALUE=DATE:20190208
DTSTAMP:20260420T111755
CREATED:20180930T094907Z
LAST-MODIFIED:20180930T094907Z
UID:4608-1549497600-1549583999@peterborougharchaeology.org
SUMMARY:The Must Farm Discoveries
DESCRIPTION:A Werrington Local History Group Event
URL:https://peterborougharchaeology.org/event/the-must-farm-discoveries/
CATEGORIES:Non FRAG
END:VEVENT
BEGIN:VEVENT
DTSTART;TZID=UTC:20190204T190000
DTEND;TZID=UTC:20190204T203000
DTSTAMP:20260420T111755
CREATED:20180815T155647Z
LAST-MODIFIED:20180912T153846Z
UID:4381-1549306800-1549312200@peterborougharchaeology.org
SUMMARY:Samian Ware - All You Need to Know
DESCRIPTION:Samian (or terra sigillata) was a form of fine table ware popular throughout the Roman world in the early Empire. It is often associated with higher status Roman buildings. Potter’s stamps can provide valuable information about date and location of manufacture. \nWe are fortunate to have a specialist who can explain all about this type of plain and moulded pottery. Geoffrey Dannell has been involved in logging Samian finds all over Europe – and he can also address the presence of Samian ware at Peterborough and Nene Valley sites. \n  \nSpeaker: Geoffrey Dannell \nFREE for FRAG Members
URL:https://peterborougharchaeology.org/event/samian-ware-what-you-need-to-know/
LOCATION:Parkway Sports Club\, Maskew Avenue\, Peterborough\, PE1 2AS
CATEGORIES:FRAG
ATTACH;FMTTYPE=image/jpeg:https://peterborougharchaeology.org/wp-content/uploads/2018/08/samian.jpg
ORGANIZER;CN="FRAG":MAILTO:enquiries@peterborougharchaeology.org
END:VEVENT
BEGIN:VEVENT
DTSTART;VALUE=DATE:20190201
DTEND;VALUE=DATE:20190202
DTSTAMP:20260420T111755
CREATED:20180914T153131Z
LAST-MODIFIED:20180914T153131Z
UID:4553-1548979200-1549065599@peterborougharchaeology.org
SUMMARY:Representations of the Tangible World in late Neolithic Ceramics
DESCRIPTION:A MidNAG Event \nSpeaker – Sarah Botfield
URL:https://peterborougharchaeology.org/event/representations-of-the-tangible-world-in-late-neolithic-ceramics/
CATEGORIES:Non FRAG
END:VEVENT
BEGIN:VEVENT
DTSTART;TZID=UTC:20190122T193000
DTEND;TZID=UTC:20190122T193000
DTSTAMP:20260420T111755
CREATED:20180626T135326Z
LAST-MODIFIED:20180626T135326Z
UID:4294-1548185400-1548185400@peterborougharchaeology.org
SUMMARY:Medieval Library Manuscripts from Peterborough Abbey
DESCRIPTION:A Peterborough Museum Society Event
URL:https://peterborougharchaeology.org/event/medieval-library-manuscripts-from-peterborough-abbey/
LOCATION:Peterborough Museum\, 51 Priestgate\, Peterborough\, PE1 1LF
CATEGORIES:Non FRAG
END:VEVENT
BEGIN:VEVENT
DTSTART;VALUE=DATE:20190118
DTEND;VALUE=DATE:20190121
DTSTAMP:20260420T111755
CREATED:20181230T171136Z
LAST-MODIFIED:20181230T180101Z
UID:4654-1547769600-1548028799@peterborougharchaeology.org
SUMMARY:EXCAVATION - Alconbury Weston - Jan 2019
DESCRIPTION:There’s another opportunity for FRAG members to join an excavation being organised by The Sawtry History Society. The dig follows field walking and geophys which suggest Iron Age and Roman settlement at the site. The next session is taking place over the weekend of 18-20 Jan. Email Kev Redgate if you are interested –  sawtry.archaeology@yahoo.co.uk \nExcavation Details \nSawtry-Application-Form \nPlease note that this is not a FRAG organised event but is available to members through our affiliation to the JIGSAW network of Cambridgshire archaeology groups.
URL:https://peterborougharchaeology.org/event/excavation-alconbury-weston-jan-2019/
CATEGORIES:Non FRAG
ORGANIZER;CN="Sawtry History Society":MAILTO:sawtry.archaeology@yahoo.co.uk
END:VEVENT
END:VCALENDAR