BEGIN:VCALENDAR
VERSION:2.0
PRODID:-//Peterborough Archaeology - ECPv6.15.20//NONSGML v1.0//EN
CALSCALE:GREGORIAN
METHOD:PUBLISH
X-WR-CALNAME:Peterborough Archaeology
X-ORIGINAL-URL:https://peterborougharchaeology.org
X-WR-CALDESC:Events for Peterborough Archaeology
REFRESH-INTERVAL;VALUE=DURATION:PT1H
X-Robots-Tag:noindex
X-PUBLISHED-TTL:PT1H
BEGIN:VTIMEZONE
TZID:UTC
BEGIN:STANDARD
TZOFFSETFROM:+0000
TZOFFSETTO:+0000
TZNAME:UTC
DTSTART:20180101T000000
END:STANDARD
END:VTIMEZONE
BEGIN:VEVENT
DTSTART;TZID=UTC:20210506T190000
DTEND;TZID=UTC:20210506T190000
DTSTAMP:20260420T042728
CREATED:20210423T084253Z
LAST-MODIFIED:20210423T084617Z
UID:6448-1620327600-1620327600@peterborougharchaeology.org
SUMMARY:Ritual Offerings in Prehistory?
DESCRIPTION:Ritual Offerings in Prehistory? Understanding Bronze Age bronze and gold hoards in Britain and beyond…and why Flag Fen remains special! \nSpeaker: Dr Ben Roberts\, Archaeology Department of the University of Durham \nThe second Flag Fen Archaeology Lecture of 2021\, organised by City Culture Peterborough
URL:https://peterborougharchaeology.org/event/ritual-offerings-in-prehistory-understanding-bronze-age-bronze-and-gold-hoards/
LOCATION:ON-LINE
CATEGORIES:Non FRAG
ATTACH;FMTTYPE=image/jpeg:https://peterborougharchaeology.org/wp-content/uploads/2020/12/non-frag-event-image.jpg
END:VEVENT
BEGIN:VEVENT
DTSTART;VALUE=DATE:20210426
DTEND;VALUE=DATE:20210427
DTSTAMP:20260420T042728
CREATED:20210405T173727Z
LAST-MODIFIED:20210405T173727Z
UID:6437-1619395200-1619481599@peterborougharchaeology.org
SUMMARY:Later Prehistoric and Roman North West Cambridge
DESCRIPTION:Colonising Inlands: Later Prehistoric and Roman North West Cambridge \nOrganised by Histon & Impington Archaeology Group (HIAG) \nSpeaker: Chris Evans\, Director\, Cambridge Archaeological Unit \n  \nThis talk is based on excavations between Huntingdon Rd and Madingley Road. These revealed occupation of north west Cambridge from 3500 to 1500 years ago from Bronze Age burials to a high-status Roman Villa\, alongside what was the main Roman Road from Colchester to Cambridge and through the midlands to Chester – a superhighway of its time.. \nThis talk will outline the results of more than 20 years of fieldwork in the University’s West Cambridge lands. Focusing on the importance of water-supply resourcing\, it will address the dynamics of inland colonization during the Bronze Age and the nature of its subsequent Iron Age utilization. It will also review the many Roman-Period settlements that have now been dug there. Including a villa\, eight farmsteads and a major roadside centre\, the programme has provided major insights into Roman Cambridge’s hinterlands. Indeed\, it now amount to one of the most comprehensive excavation programmes of the Roman countryside anywhere undertaken.
URL:https://peterborougharchaeology.org/event/later-prehistoric-and-roman-north-west-cambridge/
LOCATION:ON-LINE
CATEGORIES:Non FRAG
ATTACH;FMTTYPE=image/jpeg:https://peterborougharchaeology.org/wp-content/uploads/2020/12/non-frag-event-image.jpg
ORGANIZER;CN="HIAG":MAILTO:hisimp.archaeology.group@gmail.com
END:VEVENT
BEGIN:VEVENT
DTSTART;TZID=UTC:20210424T150000
DTEND;TZID=UTC:20210424T160000
DTSTAMP:20260420T042728
CREATED:20210402T120024Z
LAST-MODIFIED:20210423T090224Z
UID:6435-1619276400-1619280000@peterborougharchaeology.org
SUMMARY:Out of the River - Inventories of routine from Must Farm
DESCRIPTION:Third in a series of five online talks about Bronze Age Britain organised by the NVAT. The speaker is Mark Knight\, Senior Project Officer\, Cambridge Archaeological Unit
URL:https://peterborougharchaeology.org/event/out-of-the-river-inventories-of-routine-from-must-farm/
LOCATION:ON-LINE
CATEGORIES:Non FRAG
ATTACH;FMTTYPE=image/jpeg:https://peterborougharchaeology.org/wp-content/uploads/2020/12/non-frag-event-image.jpg
END:VEVENT
BEGIN:VEVENT
DTSTART;TZID=UTC:20210422T190000
DTEND;TZID=UTC:20210422T190000
DTSTAMP:20260420T042728
CREATED:20210416T170602Z
LAST-MODIFIED:20210416T170602Z
UID:6446-1619118000-1619118000@peterborougharchaeology.org
SUMMARY:Cheddar Man & Genetic Prehistory
DESCRIPTION:Cheddar Man and the Genetic Prehistory of Britain \nSpeaker:  Dr Tom Booth of the Crick Institute \nThe first Flag Fen Archaeology Lecture of 2021\, organised by City Culture Peterborough
URL:https://peterborougharchaeology.org/event/cheddar-man-genetic-prehistory/
LOCATION:ON-LINE
CATEGORIES:Non FRAG
ATTACH;FMTTYPE=image/jpeg:https://peterborougharchaeology.org/wp-content/uploads/2020/12/non-frag-event-image.jpg
END:VEVENT
BEGIN:VEVENT
DTSTART;TZID=UTC:20210320T150000
DTEND;TZID=UTC:20210320T160000
DTSTAMP:20260420T042728
CREATED:20210209T170146Z
LAST-MODIFIED:20210209T171325Z
UID:6418-1616252400-1616256000@peterborougharchaeology.org
SUMMARY:Stonehenge: the last hurrah?
DESCRIPTION:Stonehenge: the last hurrah? Constructing monuments at the Neolithic – early Bronze Age transition \nSecond in a series of five online talks about Bronze Age Britain organised by the Nene Valley Archaeological Trust \nSpeaker – Susan Greaney\, PhD Research Student\, Cardiff University \nPlease note it is essential to pre-book from the NVAT website. Places are limited. The talks are free though donations are encouraged.
URL:https://peterborougharchaeology.org/event/stonehenge-the-last-hurrah-constructing-monuments-at-the-neolithic-early-bronze-age-transition/
LOCATION:ON-LINE
CATEGORIES:Non FRAG
ATTACH;FMTTYPE=image/jpeg:https://peterborougharchaeology.org/wp-content/uploads/2020/12/non-frag-event-image.jpg
END:VEVENT
BEGIN:VEVENT
DTSTART;VALUE=DATE:20210226
DTEND;VALUE=DATE:20210301
DTSTAMP:20260420T042728
CREATED:20210209T171123Z
LAST-MODIFIED:20210209T171123Z
UID:6422-1614297600-1614556799@peterborougharchaeology.org
SUMMARY:Current Archaeology Live
DESCRIPTION:The Current Archaeology conference usually attracts high calibre speakers addressing topical subjects. \nIn order to make the event as accessible as possible this year\, all the talks will be pre-recorded and then uploaded to the Current Archaeology YouTube channel for you to enjoy at your leisure during the conference weekend. To join in\, simply visit this webpage where you will find the links to the talks once they go live\, or go directly to YouTube at www.youtube.com/c/CurrentArchaeology on the weekend of 26-28 February. The videos will be available all weekend
URL:https://peterborougharchaeology.org/event/current-archaeology-live/
LOCATION:ON-LINE
CATEGORIES:Non FRAG
ATTACH;FMTTYPE=image/jpeg:https://peterborougharchaeology.org/wp-content/uploads/2020/12/non-frag-event-image.jpg
END:VEVENT
BEGIN:VEVENT
DTSTART;TZID=UTC:20210213T150000
DTEND;TZID=UTC:20210213T160000
DTSTAMP:20260420T042728
CREATED:20210118T163952Z
LAST-MODIFIED:20210118T164140Z
UID:6403-1613228400-1613232000@peterborougharchaeology.org
SUMMARY:Research Themes in the Bronze Age of Eastern England
DESCRIPTION:Scene Changes: Research Themes in the Bronze Age of Eastern England \nFirst in a series of five online talks about Bronze Age Britain organised by the Nene Valley Archaeological Trust \nSpeaker – Chris Evans\, Executive Director\, Cambridge Archaeological Unit \nPlease note it is essential to pre-book from the NVAT website. Places are limited. The talks are free though donations are encouraged.
URL:https://peterborougharchaeology.org/event/research-themes-in-the-bronze-age-of-eastern-england/
LOCATION:ON-LINE
CATEGORIES:Non FRAG
ATTACH;FMTTYPE=image/jpeg:https://peterborougharchaeology.org/wp-content/uploads/2020/12/non-frag-event-image.jpg
END:VEVENT
BEGIN:VEVENT
DTSTART;TZID=UTC:20210125T173000
DTEND;TZID=UTC:20210125T190000
DTSTAMP:20260420T042728
CREATED:20210109T162225Z
LAST-MODIFIED:20210423T090334Z
UID:6386-1611595800-1611601200@peterborougharchaeology.org
SUMMARY:Revealing Rock Art in Kilmartin Glen
DESCRIPTION:NON – FRAG EVENT \nThe Origins of Achnabreck: Revealing Rock Art in Kilmartin Glen\, Scotland \nAbout the talk: Achnabreck is a massive rock outcrop and one of the most extensive rock art sites in Britain. It is part of a major group of Neolithic and Bronze Age monuments located in Kilmartin Glen on the west coast of Scotland. Photogrammetric analysis has brought to light hundreds of previously unrecorded carvings displaying unusual designs which have parallels in Irish passage tomb art. Many of these carvings were cut across by the later addition of cup and ring markings. Evidence for superimposition is rare at open-air rock art sites\, revealing fresh insights into the origins and interpretation of Achnabreck. \nAbout Aaron: Aaron Watson investigates Neolithic and Bronze Age monuments and has undertaken fieldwork at rock art sites across Scotland and the north of England. He is an Interpretation and Engagement Manager at Kilmartin Museum in Argyll and an Honorary Research Fellow in Archaeology at Durham University.
URL:https://peterborougharchaeology.org/event/revealing-rock-art-in-kilmartin-glen/
LOCATION:ON-LINE
CATEGORIES:Non FRAG
ATTACH;FMTTYPE=image/jpeg:https://peterborougharchaeology.org/wp-content/uploads/2020/12/non-frag-event-image.jpg
ORGANIZER;CN="SCRAP":MAILTO:https://www.rockart.scot/
END:VEVENT
BEGIN:VEVENT
DTSTART;VALUE=DATE:20210123
DTEND;VALUE=DATE:20210124
DTSTAMP:20260420T042728
CREATED:20210109T161124Z
LAST-MODIFIED:20210423T090356Z
UID:6381-1611360000-1611446399@peterborougharchaeology.org
SUMMARY:The Relationship between the Abbey of Bury St Edmunds and the Town
DESCRIPTION:NON-FRAG EVENT \nAbstract: This online talk will examine how\, focussed on the shrine of St Edmund\, the abbey and town developed from their Anglo-Saxon origins into the Norman period. It will consider the archaeological evidence for the growth of the built environment as wealth was generated and expansion took place\, in this period of cultural change. \nBiography: Dr Abby Antrobus is a Senior Archaeological Officer at Suffolk County Council where she provides advice on the archaeological implications of development across Suffolk\, particularly in the county’s towns. Her doctoral thesis was on the development of Bury St Edmunds.
URL:https://peterborougharchaeology.org/event/the-relationship-between-the-abbey-of-bury-st-edmunds-and-the-town/
LOCATION:ON-LINE
CATEGORIES:Non FRAG
ATTACH;FMTTYPE=image/jpeg:https://peterborougharchaeology.org/wp-content/uploads/2020/12/non-frag-event-image.jpg
END:VEVENT
BEGIN:VEVENT
DTSTART;VALUE=DATE:20201114
DTEND;VALUE=DATE:20201115
DTSTAMP:20260420T042728
CREATED:20200831T162636Z
LAST-MODIFIED:20200831T162636Z
UID:5668-1605312000-1605398399@peterborougharchaeology.org
SUMMARY:The Anglo-Saxon Agricultural Revolution in Norfolk
DESCRIPTION:An all day online conference by Sedgeford Historical and Archaeological Research Project (SHARP)
URL:https://peterborougharchaeology.org/event/the-anglo-saxon-agricultural-revolution-in-norfolk/
CATEGORIES:Non FRAG
END:VEVENT
BEGIN:VEVENT
DTSTART;VALUE=DATE:20200728
DTEND;VALUE=DATE:20200826
DTSTAMP:20260420T042728
CREATED:20200715T090300Z
LAST-MODIFIED:20200715T090300Z
UID:5618-1595894400-1598399999@peterborougharchaeology.org
SUMMARY:Oliver Cromwell's House - Ely
DESCRIPTION:A socially distanced Outdoor Tour organised by Visit Ely \nEvery Tuesday from July 28th to Aug 25th. Advance booking required.
URL:https://peterborougharchaeology.org/event/oliver-cromwells-house-ely/
CATEGORIES:Non FRAG
ORGANIZER;CN="Visit Ely":MAILTO:www.visitely.org.uk
END:VEVENT
BEGIN:VEVENT
DTSTART;VALUE=DATE:20200711
DTEND;VALUE=DATE:20200720
DTSTAMP:20260420T042728
CREATED:20200715T092151Z
LAST-MODIFIED:20200715T092531Z
UID:5622-1594425600-1595203199@peterborougharchaeology.org
SUMMARY:CBA Festival of Archaeology
DESCRIPTION:A series of Online Events from the Council for British Archaeology
URL:https://peterborougharchaeology.org/event/cba-festival-of-archaeology/
CATEGORIES:Non FRAG
END:VEVENT
BEGIN:VEVENT
DTSTART;VALUE=DATE:20200620
DTEND;VALUE=DATE:20200621
DTSTAMP:20260420T042728
CREATED:20191028T235347Z
LAST-MODIFIED:20200403T090227Z
UID:5424-1592611200-1592697599@peterborougharchaeology.org
SUMMARY:VISIT: Chester Farm - A Roman walled town near Wellingborough - CANCELLED
DESCRIPTION:SORRY – POSTPONED DUE TO CORONA VIRUS \nWe will visit Chester Farm near Wellingborough where archaeologists have discovered a Roman walled town.  There is also evidence from the Mesolithic\, Iron Age and Medieval periods. The project has struggled to achieve the planned visitor centre but FRAG will have a personal introduction to the site. It may also be possible to visit the archaeological excavation planned for June 2020. \nLeader:  Sarah Bridges\, Archives and Heritage Services Manager\, Northamptonshire County Council \nFREE for FRAG Members \nThe visit will take place on Saturday morning. \nRegistration will be required – details to follow\n(Participants will need to make their own way to the site)
URL:https://peterborougharchaeology.org/event/visit-chester-farm-a-roman-walled-town-near-wellingborough/
CATEGORIES:FRAG
ATTACH;FMTTYPE=image/jpeg:https://peterborougharchaeology.org/wp-content/uploads/2019/10/chester-farm.jpg
ORGANIZER;CN="FRAG":MAILTO:enquiries@peterborougharchaeology.org
END:VEVENT
BEGIN:VEVENT
DTSTART;VALUE=DATE:20200613
DTEND;VALUE=DATE:20200615
DTSTAMP:20260420T042728
CREATED:20200530T141523Z
LAST-MODIFIED:20200530T141523Z
UID:5612-1592006400-1592179199@peterborougharchaeology.org
SUMMARY:DigNation Festival 2020
DESCRIPTION:An online conference from Dig Ventures
URL:https://peterborougharchaeology.org/event/dignation-festival-2020/
CATEGORIES:Non FRAG
END:VEVENT
BEGIN:VEVENT
DTSTART;TZID=UTC:20200601T190000
DTEND;TZID=UTC:20200601T203000
DTSTAMP:20260420T042728
CREATED:20191028T233736Z
LAST-MODIFIED:20200403T090118Z
UID:5422-1591038000-1591043400@peterborougharchaeology.org
SUMMARY:The History & Archaeology of Peterborough Cathedral Square - CANCELLED
DESCRIPTION:SORRY – POSTPONED DUE TO CORONA VIRUS \nRemember the many months of disruption to central Peterborough when the Cathedral Square fountains were installed. \nThe improvement project by Peterborough City Council initiated in 2008 involved the re-laying of much of the street and pavement surfaces as well as the demolition of the unsightly 1960s “Norwich Union building” which had been home to the post office. This work provided a unique opportunity for archaeologists to observe what lies beneath the modern surfaces. An initial evaluation was undertaken in late 2008 followed by excavation and observation through to August 2010. \nThe archaeology project was undertaken by Northampton Archaeology (now MOLA) and helped flesh out our understanding of 900 years of Peterborough history. \nSpeaker: Stephen Morris\, MOLA (Museum of London Archaeology) \nFREE for FRAG Members \nMore Information about Cathedral Square
URL:https://peterborougharchaeology.org/event/the-history-archaeology-of-peterborough-cathedral-square/
LOCATION:Parkway Sports Club\, Maskew Avenue\, Peterborough\, PE1 2AS
CATEGORIES:FRAG
ATTACH;FMTTYPE=image/jpeg:https://peterborougharchaeology.org/wp-content/uploads/2018/03/Peterborough-Market-Square-Louise-Rayner-1864.jpg
ORGANIZER;CN="FRAG":MAILTO:enquiries@peterborougharchaeology.org
END:VEVENT
BEGIN:VEVENT
DTSTART;VALUE=DATE:20200516
DTEND;VALUE=DATE:20200517
DTSTAMP:20260420T042728
CREATED:20191028T210431Z
LAST-MODIFIED:20200320T185835Z
UID:5420-1589587200-1589673599@peterborougharchaeology.org
SUMMARY:WALK – Norman Cross Prison - CANCELLED
DESCRIPTION:SORRY – POSTPONED DUE TO CORONA VIRUS \nNorman Cross Prison was constructed in early 1797 to house prisoners of the Napoleonic wars. It formed part of a network of military “depots” and with a capacity of nearly 7\,000 it had a major impact on our sleepy\, local towns and villages. \nThe 15 hectare site is to the east of the Great North Road (and now the A1) at Norman Cross\, 5 miles from Peterborough and close to Stilton\, Folksworth and Yaxley. A few fragments of the prison can still be seen\, along with a field of lumps and bumps\, and a memorial to the 1\,770 prisoners who died there before it closed in 1814. \nPaul Chamberlain is a leading authority on the prison. He will explain its history and point out surviving features in the landscape. \nThe walk/talk will take place on Saturday morning. \nREGISTRATION WILL BE NECESSARY – DETAILS TO FOLLOW
URL:https://peterborougharchaeology.org/event/walk-norman-cross-prison/
CATEGORIES:FRAG
ATTACH;FMTTYPE=image/jpeg:https://peterborougharchaeology.org/wp-content/uploads/2016/11/norman-cross-e1492426172539.jpg
ORGANIZER;CN="FRAG":MAILTO:enquiries@peterborougharchaeology.org
END:VEVENT
BEGIN:VEVENT
DTSTART;VALUE=DATE:20200418
DTEND;VALUE=DATE:20200419
DTSTAMP:20260420T042728
CREATED:20200228T100210Z
LAST-MODIFIED:20200320T190559Z
UID:5529-1587168000-1587254399@peterborougharchaeology.org
SUMMARY:The Vikings and Anglo-Saxons in Lincolnshire and the Fens - CANCELLED
DESCRIPTION:CANCELLED \nThis full day Symposium is organised by the Spalding Gentlmen’s Society
URL:https://peterborougharchaeology.org/event/the-vikings-and-anglo-saxons-in-lincolnshire-and-the-fens/
CATEGORIES:Non FRAG
ORGANIZER;CN="Spalding Gentlemen%E2%80%99s Society":MAILTO:info@sgsoc.org
END:VEVENT
BEGIN:VEVENT
DTSTART;TZID=UTC:20200406T190000
DTEND;TZID=UTC:20200406T210000
DTSTAMP:20260420T042728
CREATED:20191028T201427Z
LAST-MODIFIED:20200320T185813Z
UID:5416-1586199600-1586206800@peterborougharchaeology.org
SUMMARY:Open Mic & Annual General Meeting - CANCELLED
DESCRIPTION:SORRY – POSTPONED DUE TO CORONA VIRUS \nA chance for FRAG members to share recent or favourite archaeology stories. Places visited. Objects found. Digs\, Museums\, Exhibitions etc\, etc. Each “talk” will be 5 to 10 minutes. This part of the evening will last for about an hour. \nIf you would like to volunteer for a slot please let a committee member know – or email enquiries@peterborougharchaeology.org \nFREE for FRAG Members \nThe FRAG Annual General Meeting will follow at about 8pm. All are welcome to attend and help shape the development of the group. \nAGENDA FOR AGM – to follow \n 
URL:https://peterborougharchaeology.org/event/open-mic-annual-general-meeting/
LOCATION:Parkway Sports Club\, Maskew Avenue\, Peterborough\, PE1 2AS
CATEGORIES:FRAG
ATTACH;FMTTYPE=image/jpeg:https://peterborougharchaeology.org/wp-content/uploads/2017/06/fane-road-roman-artist-200.jpg
END:VEVENT
BEGIN:VEVENT
DTSTART;TZID=UTC:20200328T140000
DTEND;TZID=UTC:20200328T180000
DTSTAMP:20260420T042728
CREATED:20200127T091335Z
LAST-MODIFIED:20200320T190039Z
UID:5508-1585404000-1585418400@peterborougharchaeology.org
SUMMARY:NVAT Conference - Science in Archaeology - CANCELLED
DESCRIPTION:CANCELLED  – \nA Nene Valley Archaeological Trust Event – in Castor
URL:https://peterborougharchaeology.org/event/nvat-conference-science-in-archaeology/
CATEGORIES:Non FRAG
END:VEVENT
BEGIN:VEVENT
DTSTART;VALUE=DATE:20200316
DTEND;VALUE=DATE:20200330
DTSTAMP:20260420T042728
CREATED:20200228T101357Z
LAST-MODIFIED:20200228T101357Z
UID:5534-1584316800-1585526399@peterborougharchaeology.org
SUMMARY:Anglesey Abbey - Excavation Tours & Events
DESCRIPTION:Organised by the National Trust and Oxford Archaeology East
URL:https://peterborougharchaeology.org/event/anglesey-abbey-excavation-tours-events/
CATEGORIES:Non FRAG
END:VEVENT
BEGIN:VEVENT
DTSTART;VALUE=DATE:20200312
DTEND;VALUE=DATE:20200313
DTSTAMP:20260420T042728
CREATED:20200304T193847Z
LAST-MODIFIED:20200312T092349Z
UID:5538-1583971200-1584057599@peterborougharchaeology.org
SUMMARY:Respect your Elders: Old Swords in Anglo-Saxon England
DESCRIPTION:This is a Vivacity event at Flag Fen \nPOSTPONED
URL:https://peterborougharchaeology.org/event/respect-your-elders-old-swords-in-anglo-saxon-england/
CATEGORIES:Non FRAG
END:VEVENT
BEGIN:VEVENT
DTSTART;VALUE=DATE:20200304
DTEND;VALUE=DATE:20200305
DTSTAMP:20260420T042728
CREATED:20200228T100932Z
LAST-MODIFIED:20200228T100932Z
UID:5531-1583280000-1583366399@peterborougharchaeology.org
SUMMARY:The Excavation of a Mercian King's Enclosure
DESCRIPTION:A Fen Edge Archaeology Group event in Cottenham. Delivered by Richard Mortimer.
URL:https://peterborougharchaeology.org/event/the-excavation-of-a-mercian-kings-enclosure/
CATEGORIES:Non FRAG
ORGANIZER;CN="Fen Edge Archaeology Group":MAILTO:vicki.harley@care4free.net
END:VEVENT
BEGIN:VEVENT
DTSTART;TZID=UTC:20200302T190000
DTEND;TZID=UTC:20200302T203000
DTSTAMP:20260420T042728
CREATED:20191028T184015Z
LAST-MODIFIED:20191028T184053Z
UID:5412-1583175600-1583181000@peterborougharchaeology.org
SUMMARY:Warboys - An Important Iron Age Settlement
DESCRIPTION:A 7 month project by Oxford Archaeology East has revealed continuous occupation from the Iron Age to late Roman and beyond. The 4 hectare site off Farriers Way in the village Warboys was being investigated in advance of housing development by Bellway Homes. \nThe earliest finds include eight roundhouses\, some of which date back to about 100BC. Evidence of Roman rural industry included a 4.6m corn dryer and kilns. There were also Saxon pottery and beads indicating further evolution of the settlement before it gave way to agriculture. \n“Our archaeological investigations at Farriers Way have revealed a hugely important\, and a hitherto unknown\, settlement that was occupied from the Iron Age\, around 2\,500 years ago\, and throughout the entire Roman period. What makes this site really significant however\, is that we have evidence of early Saxon occupation mingled with the latest Roman remains\, making this a rare example of the Roman to Saxon transition in the East of England.” \nSpeaker: Steve Graham\, Project Officer\, Oxford Archaeology \nFREE for FRAG Members
URL:https://peterborougharchaeology.org/event/warboys-an-important-iron-age-settlement/
LOCATION:Parkway Sports Club\, Maskew Avenue\, Peterborough\, PE1 2AS
CATEGORIES:FRAG
ATTACH;FMTTYPE=image/jpeg:https://peterborougharchaeology.org/wp-content/uploads/2019/10/warboys-roman-oae-400.jpg
ORGANIZER;CN="FRAG":MAILTO:enquiries@peterborougharchaeology.org
END:VEVENT
BEGIN:VEVENT
DTSTART;VALUE=DATE:20200219
DTEND;VALUE=DATE:20200220
DTSTAMP:20260420T042728
CREATED:20200111T155349Z
LAST-MODIFIED:20200111T155349Z
UID:5497-1582070400-1582156799@peterborougharchaeology.org
SUMMARY:Excavations at Nassington 2019
DESCRIPTION:A MidNAG Event at Nassington Village Hall
URL:https://peterborougharchaeology.org/event/excavations-at-nassington-2019/
END:VEVENT
BEGIN:VEVENT
DTSTART;VALUE=DATE:20200206
DTEND;VALUE=DATE:20200207
DTSTAMP:20260420T042728
CREATED:20190906T162930Z
LAST-MODIFIED:20190906T162930Z
UID:5183-1580947200-1581033599@peterborougharchaeology.org
SUMMARY:Prostitution & Death in Victorian Peterborough
DESCRIPTION:A Werrington Local History Group Event
URL:https://peterborougharchaeology.org/event/prostitution-death-in-victorian-peterborough/
CATEGORIES:Non FRAG
END:VEVENT
BEGIN:VEVENT
DTSTART;TZID=UTC:20200203T190000
DTEND;TZID=UTC:20200203T203000
DTSTAMP:20260420T042728
CREATED:20190906T172753Z
LAST-MODIFIED:20190923T114247Z
UID:5194-1580756400-1580761800@peterborougharchaeology.org
SUMMARY:From Neolithic to Saxon: Evolution of a North Cambridgeshire Landscape
DESCRIPTION:The A14 improvement project triggered one of the most extensive ever archaeological excavations. MOLA Headland Infrastructure employed some 250 archaeologists to dig more than 40 separate excavation areas spanning 350 hectares\, uncovering new information about how the landscape was used over 6\,000 years\, and about the origins of the villages and towns along the route. \nPrehistoric henge monuments\, barrows and cremation cemeteries. Iron Age farms.  A Roman supply depot and multiple kilns. Saxon settlements including timber buildings. The list of finds is huge. With the investigation phase completed\, post excavation analysis is proceeding on multiple fronts. This talk will provide an update on the what this unique project can tell us about the evolution of the north Cambridgeshire landscape from Neolithic to Saxon times. \nSpeaker: Tony Walsh\, Project Manager\, Headland Archaeology \nFREE for FRAG Members \nNews about the project
URL:https://peterborougharchaeology.org/event/from-neolithic-to-saxon-evolution-of-a-north-cambridgeshire-landscape/
LOCATION:Parkway Sports Club\, Maskew Avenue\, Peterborough\, PE1 2AS
CATEGORIES:FRAG
ATTACH;FMTTYPE=image/jpeg:https://peterborougharchaeology.org/wp-content/uploads/2019/09/roman-distribution-centre-a14-cambridge-huntingdon.jpg
ORGANIZER;CN="FRAG":MAILTO:enquiries@peterborougharchaeology.org
END:VEVENT
BEGIN:VEVENT
DTSTART;VALUE=DATE:20200130
DTEND;VALUE=DATE:20200309
DTSTAMP:20260420T042728
CREATED:20200127T093523Z
LAST-MODIFIED:20200127T170429Z
UID:5510-1580342400-1583711999@peterborougharchaeology.org
SUMMARY:EXCAVATION - Alconbury Weston - Season 3
DESCRIPTION:There’s another opportunity for FRAG members to join an excavation being organised by The Sawtry History Society. The dig follows field walking and geophys which suggest Iron Age and Roman settlement at the site. \nThis year there are 15 days of site activity between 30th January and 8th March. Volunteers from FRAG are welcome. \nExcavation Details \nSawtry-Application-Form \nPlease note that this is not a FRAG organised event but is available to members through our affiliation to the JIGSAW network of Cambridgshire archaeology groups.
URL:https://peterborougharchaeology.org/event/excavation-alconbury-weston-season-3/
CATEGORIES:Non FRAG
ORGANIZER;CN="Sawtry History Society":MAILTO:sawtry.archaeology@yahoo.co.uk
END:VEVENT
BEGIN:VEVENT
DTSTART;VALUE=DATE:20200106
DTEND;VALUE=DATE:20200107
DTSTAMP:20260420T042728
CREATED:20190906T165327Z
LAST-MODIFIED:20190928T153206Z
UID:5189-1578268800-1578355199@peterborougharchaeology.org
SUMMARY:Georgian Peterborough
DESCRIPTION:The Georgian period is a neglected part of Peterborough’s past\, overshadowed by nearby Stamford’s 18th century streets. This talk reveals how Peterborough was not quite the backwater we might expect and looks at some of our surviving and missing Georgian buildings. Hear some of our stories from this period – how we ended up on a ‘Grand Tour’\, attracted one of the country’s best-known artists and why bells saved a local MPs life… \nSpeaker: Stuart Orme\, Curator/Museum Manager\, The Cromwell Museum\, Huntingdon \nFREE for FRAG Members \n 
URL:https://peterborougharchaeology.org/event/georgian-peterborough/
LOCATION:Parkway Sports Club\, Maskew Avenue\, Peterborough\, PE1 2AS
CATEGORIES:FRAG
ATTACH;FMTTYPE=image/jpeg:https://peterborougharchaeology.org/wp-content/uploads/2019/09/georgian-peterborough-prospect-of-peterborough-1731.jpg
ORGANIZER;CN="FRAG":MAILTO:enquiries@peterborougharchaeology.org
END:VEVENT
BEGIN:VEVENT
DTSTART;VALUE=DATE:20200102
DTEND;VALUE=DATE:20200103
DTSTAMP:20260420T042728
CREATED:20190906T162742Z
LAST-MODIFIED:20190906T162742Z
UID:5181-1577923200-1578009599@peterborougharchaeology.org
SUMMARY:The Romans at Fane Road
DESCRIPTION:A Werrington Local History Group event:     In case you missed his talk at the 2019 AGM\, Fane Road Archaeology Group’s field officer\, Phil Hill\, will be addressing the local history society.
URL:https://peterborougharchaeology.org/event/the-romans-at-fane-road/
CATEGORIES:Non FRAG
END:VEVENT
BEGIN:VEVENT
DTSTART;TZID=UTC:20191209T190000
DTEND;TZID=UTC:20191209T203000
DTSTAMP:20260420T042728
CREATED:20190119T143136Z
LAST-MODIFIED:20191029T181707Z
UID:4736-1575918000-1575923400@peterborougharchaeology.org
SUMMARY:Peakirk Unwrapped: The Archaeology of a Fen-edge Settlement
DESCRIPTION:Peakirk is known for its association with St Pega\, who reputedly founded a hermitage there and gave the settlement its place-name [‘Pega’s church’]. Whilst Peakirk’s history is sporadically-documented from the eleventh-century onwards\, archaeological evidence indicates that the area first was colonised by Neolithic folk and that there was almost-continuous activity in the heart of the present village from the Romano-British period onwards. \nThis talk unveils Peakirk’s story through a combination of archaeology\, architecture\, topography\, maps\, photographs and written sources. It also features the work of PAST [Peakirk Archaeological Survey Team]\, an independent\, self-funding group\, whose recent projects have included re-plotting the route of the Roman watercourse\, the Car Dyke\, dispelling the ‘tradition’ of a Romano-British villa\, rediscovering ‘lost’ buildings and revealing more about Peakirk’s diverse and secret heritage. \nSpeaker: Dr Avril Lumley Prior \nFREE for FRAG Members \nDr Avril Lumley Prior developed an interest in Anglo-Saxon history during her childhood in Sunderland. After accepting a teaching post in Peterborough\, in 1970\, she transferred her attention from Northumbrian to Mercian studies. Upon her early retirement in 1995\, Avril attained an MA and a PhD on historically-based subjects\, both at Leicester University. She is currently conducting research in and around Peakirk and regularly presents and publishes her findings. With her husband\, Greg\, she is a founder member of PAST [Peakirk Archaeological Survey Team].
URL:https://peterborougharchaeology.org/event/peakirk-unwrapped-the-archaeology-of-a-fen-edge-settlement/
LOCATION:Parkway Sports Club\, Maskew Avenue\, Peterborough\, PE1 2AS
CATEGORIES:FRAG
ATTACH;FMTTYPE=image/jpeg:https://peterborougharchaeology.org/wp-content/uploads/2019/01/peakirk-alp.jpg
ORGANIZER;CN="FRAG":MAILTO:enquiries@peterborougharchaeology.org
END:VEVENT
END:VCALENDAR