BEGIN:VCALENDAR
VERSION:2.0
PRODID:-//Peterborough Archaeology - ECPv6.15.20//NONSGML v1.0//EN
CALSCALE:GREGORIAN
METHOD:PUBLISH
X-WR-CALNAME:Peterborough Archaeology
X-ORIGINAL-URL:https://peterborougharchaeology.org
X-WR-CALDESC:Events for Peterborough Archaeology
REFRESH-INTERVAL;VALUE=DURATION:PT1H
X-Robots-Tag:noindex
X-PUBLISHED-TTL:PT1H
BEGIN:VTIMEZONE
TZID:UTC
BEGIN:STANDARD
TZOFFSETFROM:+0000
TZOFFSETTO:+0000
TZNAME:UTC
DTSTART:20210101T000000
END:STANDARD
END:VTIMEZONE
BEGIN:VEVENT
DTSTART;VALUE=DATE:20230722
DTEND;VALUE=DATE:20230831
DTSTAMP:20260420T005938
CREATED:20230727T092758Z
LAST-MODIFIED:20230728T152356Z
UID:7662-1689984000-1693439999@peterborougharchaeology.org
SUMMARY:Flag Fen - Join the Dig!
DESCRIPTION:Holiday fun for children. \nEver wanted to know what it’s like to be an archaeologist for the day? Well\, check out Flag Fen during the holidays to find out! \nCram thousands of years into just one day as you dig through history and piece together stories of the past using the clues you find along the way. \nNon-FRAG
URL:https://peterborougharchaeology.org/event/flag-fen-join-the-dig/
CATEGORIES:Non FRAG
END:VEVENT
BEGIN:VEVENT
DTSTART;VALUE=DATE:20230624
DTEND;VALUE=DATE:20230626
DTSTAMP:20260420T005938
CREATED:20230610T101315Z
LAST-MODIFIED:20230610T104302Z
UID:7586-1687564800-1687737599@peterborougharchaeology.org
SUMMARY:Chester House - Roman Festival 2023
DESCRIPTION:In partnership with the University of Leicester\, Chester House is hosting their second Roman Festival. \nAdmission for adults and children is FREE but tickets must be pre-booked. \nChester House is situated just off the eastbound A45 between Wellingborough and Rushden. \nBOOKING & FULL DETAILS \nActivities include: \nRoman re-enacting group\, the Ermine Street Guard \nRoman pottery and craft demonstrations \nTours of the excavations – speak to archaeologists and get a chance to handle real finds \nShort talks from archaeologists and curators throughout the day on Roman life \nNorthamptonshire Archaeological Resource Centre visits to see amazing Roman objects \nWash finds from the Chester House excavation \nStalls with fun Roman themed activities for all ages \nFRAG will be running a stall at the festival
URL:https://peterborougharchaeology.org/event/chester-house-roman-festival-2023/
CATEGORIES:Non FRAG
ATTACH;FMTTYPE=image/jpeg:https://peterborougharchaeology.org/wp-content/uploads/2023/06/chester-farm-romans.jpg
END:VEVENT
BEGIN:VEVENT
DTSTART;VALUE=DATE:20230607
DTEND;VALUE=DATE:20230608
DTSTAMP:20260420T005938
CREATED:20230108T164231Z
LAST-MODIFIED:20230209T091025Z
UID:7442-1686096000-1686182399@peterborougharchaeology.org
SUMMARY:East Anglia in the Middle Bronze Age
DESCRIPTION:A HIAG & FEAG Event \nIn person at Rampton or via Zoom
URL:https://peterborougharchaeology.org/event/east-anglia-in-the-middle-bronze-age/
CATEGORIES:Non FRAG
ATTACH;FMTTYPE=image/jpeg:https://peterborougharchaeology.org/wp-content/uploads/2020/12/non-frag-event-image.jpg
ORGANIZER;CN="HIAG":MAILTO:hisimp.archaeology.group@gmail.com
END:VEVENT
BEGIN:VEVENT
DTSTART;TZID=UTC:20230605T190000
DTEND;TZID=UTC:20230605T190000
DTSTAMP:20260420T005938
CREATED:20230407T113415Z
LAST-MODIFIED:20230525T113730Z
UID:7569-1685991600-1685991600@peterborougharchaeology.org
SUMMARY:Causewayed Enclosures
DESCRIPTION:Causewayed Enclosures are a form of early Neolithic earthwork\, first appearing between 3700 and 3600BC. They are encircled by one to four concentric ditches with an internal bank. Crossing the ditches at intervals are causeways which give the monuments their name. They are generally interpreted as ritual or communal places rather than for settlement. There are a surprising number of them in the Peterborough area. This talk will tell us more! \nSpeaker: Phil Hill\, Oxford Archaeology East \nFREE for FRAG Members \n  \nBackground information on this website: \nMaxey & Etton Neolithic Landscape
URL:https://peterborougharchaeology.org/event/causewayed-enclosures/
LOCATION:Parkway Sports Club\, Maskew Avenue\, Peterborough\, PE1 2AS
CATEGORIES:FRAG
ATTACH;FMTTYPE=image/jpeg:https://peterborougharchaeology.org/wp-content/uploads/2018/03/google-earth-2006-maxey-etton-annotated.jpg
ORGANIZER;CN="FRAG":MAILTO:enquiries@peterborougharchaeology.org
END:VEVENT
BEGIN:VEVENT
DTSTART;TZID=UTC:20230428T193000
DTEND;TZID=UTC:20230428T193000
DTSTAMP:20260420T005938
CREATED:20230330T113432Z
LAST-MODIFIED:20230330T113432Z
UID:7565-1682710200-1682710200@peterborougharchaeology.org
SUMMARY:Crucifixion in Roman Britain
DESCRIPTION:A MidNag Event \nA Talk by David Ingham
URL:https://peterborougharchaeology.org/event/crucifixion-in-roman-britain/
CATEGORIES:Non FRAG
ATTACH;FMTTYPE=image/jpeg:https://peterborougharchaeology.org/wp-content/uploads/2020/12/non-frag-event-image.jpg
END:VEVENT
BEGIN:VEVENT
DTSTART;TZID=UTC:20230419T193000
DTEND;TZID=UTC:20230419T193000
DTSTAMP:20260420T005938
CREATED:20230330T112141Z
LAST-MODIFIED:20230330T112918Z
UID:7557-1681932600-1681932600@peterborougharchaeology.org
SUMMARY:Going to Church in Medieval England
DESCRIPTION:A Joint Cambridge Antiquarian Society and Huntingdonshire Local History Society Event \nProfessor Orme will talk on the subject of his Daily Telegraph ‘Book of the Year’ 2022 from the perspective of a Cambridgeshire or Huntingdonshire parishioner. \nBook signing and reception afterwards
URL:https://peterborougharchaeology.org/event/going-to-church-in-medieval-england/
CATEGORIES:Non FRAG
ATTACH;FMTTYPE=image/jpeg:https://peterborougharchaeology.org/wp-content/uploads/2020/12/non-frag-event-image.jpg
ORGANIZER;CN="Cambridge Antiquarian Society":MAILTO:secretary@camantsoc.org
END:VEVENT
BEGIN:VEVENT
DTSTART;TZID=UTC:20230411T193000
DTEND;TZID=UTC:20230411T193000
DTSTAMP:20260420T005938
CREATED:20230116T094947Z
LAST-MODIFIED:20230330T112341Z
UID:7463-1681241400-1681241400@peterborougharchaeology.org
SUMMARY:The Romans in the Nene Valley
DESCRIPTION:A Peterborough Museum Society Event \nTalk by Stehpen Upex
URL:https://peterborougharchaeology.org/event/the-romans-in-the-nene-valley/
LOCATION:Peterborough Museum\, 51 Priestgate\, Peterborough\, PE1 1LF
CATEGORIES:Non FRAG
ATTACH;FMTTYPE=image/jpeg:https://peterborougharchaeology.org/wp-content/uploads/2020/12/non-frag-event-image.jpg
END:VEVENT
BEGIN:VEVENT
DTSTART;TZID=UTC:20230403T191500
DTEND;TZID=UTC:20230403T191500
DTSTAMP:20260420T005938
CREATED:20230111T165209Z
LAST-MODIFIED:20230322T091648Z
UID:7448-1680549300-1680549300@peterborougharchaeology.org
SUMMARY:Return to Priors Hall & FRAG AGM
DESCRIPTION:The first part of the evening will be the FRAG Annual General Meeting when the important business will be to elect a new committee to take the group forward. A list of proposed committee members is included in the agenda: \nFRAG AGM 2023 – Agenda \nFRAG AGM 2022 – Minutes  \nPart two will be a return visit by Paddy Lambert from Oxford Archaeology East. In March 2022 he introduced us to the rare remains of a Romano-British temple-mausoleum associated with an early villa at Priors Hall\, near Corby. The excavation won the Current Archaeology Project of the Year. The team has since returned to the site and found out more about its Iron Age beginnings and broader site context. \nFREE for FRAG members \n  \nPLEASE NOTE: \nTHIS MEETING IS BEING HELD AT  – THE PASTON COMMUNITY CENTRE – PE4 7YH \nThe start time is 7.15pm as the hall is not available any earlier
URL:https://peterborougharchaeology.org/event/return-to-priors-hall-frag-agm/
LOCATION:Paston and Gunthorpe Community Centre\, Hallfields Lane\, Peterborough\, PE4 7YH
CATEGORIES:FRAG
ATTACH;FMTTYPE=image/jpeg:https://peterborougharchaeology.org/wp-content/uploads/2023/01/priors-hall-return.jpg
ORGANIZER;CN="FRAG":MAILTO:enquiries@peterborougharchaeology.org
END:VEVENT
BEGIN:VEVENT
DTSTART;VALUE=DATE:20230323
DTEND;VALUE=DATE:20230324
DTSTAMP:20260420T005938
CREATED:20230209T093128Z
LAST-MODIFIED:20230209T100333Z
UID:7539-1679529600-1679615999@peterborougharchaeology.org
SUMMARY:The Medieval Agricultural Revolution
DESCRIPTION:A Gresham College Free Event \nAncient Landscapes of Britain – 2023 Lecture Series \nProfessor Helena Hamerow
URL:https://peterborougharchaeology.org/event/the-medieval-agricultural-revolution/
CATEGORIES:Non FRAG
ATTACH;FMTTYPE=image/jpeg:https://peterborougharchaeology.org/wp-content/uploads/2020/12/non-frag-event-image.jpg
END:VEVENT
BEGIN:VEVENT
DTSTART;VALUE=DATE:20230315
DTEND;VALUE=DATE:20230316
DTSTAMP:20260420T005938
CREATED:20230209T092846Z
LAST-MODIFIED:20230209T093303Z
UID:7537-1678838400-1678924799@peterborougharchaeology.org
SUMMARY:Landscapes of Roman Britain
DESCRIPTION:A Gresham College Free Lecture \nAncient Landscapes of Britain – 2023 Lecture Series \nSpeaker – Professor Martin Millett
URL:https://peterborougharchaeology.org/event/7537/
CATEGORIES:Non FRAG
ATTACH;FMTTYPE=image/jpeg:https://peterborougharchaeology.org/wp-content/uploads/2020/12/non-frag-event-image.jpg
END:VEVENT
BEGIN:VEVENT
DTSTART;VALUE=DATE:20230313
DTEND;VALUE=DATE:20230314
DTSTAMP:20260420T005938
CREATED:20230108T163250Z
LAST-MODIFIED:20230108T163323Z
UID:7438-1678665600-1678751999@peterborougharchaeology.org
SUMMARY:Excavations at Darwin Green
DESCRIPTION:A HIAG Event \nIn person and via Zoom
URL:https://peterborougharchaeology.org/event/excavations-at-darwin-green/
CATEGORIES:Non FRAG
ATTACH;FMTTYPE=image/jpeg:https://peterborougharchaeology.org/wp-content/uploads/2020/12/non-frag-event-image.jpg
ORGANIZER;CN="HIAG":MAILTO:hisimp.archaeology.group@gmail.com
END:VEVENT
BEGIN:VEVENT
DTSTART;TZID=UTC:20230306T190000
DTEND;TZID=UTC:20230306T190000
DTSTAMP:20260420T005938
CREATED:20220727T153244Z
LAST-MODIFIED:20230111T163740Z
UID:7271-1678129200-1678129200@peterborougharchaeology.org
SUMMARY:Thirsty Work: The Mineral Water Manufacturers of Peterborough
DESCRIPTION:In the late 19th and early 20th century Peterborough became well known for its suppliers of mineral waters. \nSpeaker: Dr Avril Lumley Prior \nFREE for FRAG Members \nDr Avril Lumley Prior developed an interest in Anglo-Saxon history during her childhood in Sunderland and since being in Peterborough has turned her attention to Mercian studies. Avril attained an MA and a PhD on historically-based subjects\, and has conducted local research with the Peakirk Archaeological Survey Team. Her exploration of local mineral water suppliers was undertaken with her late husband\, Greg\, and will be published soon. \nThis talk was originally scheduled for 9th January but had to be postponed
URL:https://peterborougharchaeology.org/event/mineral-water-manufacturers-peterborough/
LOCATION:Parkway Sports Club\, Maskew Avenue\, Peterborough\, PE1 2AS
CATEGORIES:FRAG
ATTACH;FMTTYPE=image/jpeg:https://peterborougharchaeology.org/wp-content/uploads/2022/07/water-bottles.jpg
ORGANIZER;CN="FRAG":MAILTO:enquiries@peterborougharchaeology.org
END:VEVENT
BEGIN:VEVENT
DTSTART;VALUE=DATE:20230302
DTEND;VALUE=DATE:20230303
DTSTAMP:20260420T005938
CREATED:20230116T094422Z
LAST-MODIFIED:20230116T094422Z
UID:7460-1677715200-1677801599@peterborougharchaeology.org
SUMMARY:Protecting Cathedral Cities
DESCRIPTION:Protecting Cathedral Cities \nA talk by Simon Thurley \nA Peterborough Museum Society Event
URL:https://peterborougharchaeology.org/event/protecting-cathedral-cities/
CATEGORIES:Non FRAG
ATTACH;FMTTYPE=image/jpeg:https://peterborougharchaeology.org/wp-content/uploads/2020/12/non-frag-event-image.jpg
END:VEVENT
BEGIN:VEVENT
DTSTART;VALUE=DATE:20230223
DTEND;VALUE=DATE:20230224
DTSTAMP:20260420T005938
CREATED:20230209T092302Z
LAST-MODIFIED:20230209T093349Z
UID:7532-1677110400-1677196799@peterborougharchaeology.org
SUMMARY:Stonehenge: A History
DESCRIPTION:A Gresham College Free Lecture \nAncient Landscapes of Britain – 2023 Lecture Series \nSpeaker – Mike Pitts
URL:https://peterborougharchaeology.org/event/stonehenge-a-history/
CATEGORIES:Non FRAG
ATTACH;FMTTYPE=image/jpeg:https://peterborougharchaeology.org/wp-content/uploads/2020/12/non-frag-event-image.jpg
END:VEVENT
BEGIN:VEVENT
DTSTART;VALUE=DATE:20230222
DTEND;VALUE=DATE:20230223
DTSTAMP:20260420T005938
CREATED:20230209T090242Z
LAST-MODIFIED:20230209T093514Z
UID:7523-1677024000-1677110399@peterborougharchaeology.org
SUMMARY:What did our Neolithic Ancestors Eat?
DESCRIPTION:A Fenarch Event in Wisbech \nFenarch Tamsin O’Connell poster
URL:https://peterborougharchaeology.org/event/what-did-our-neolithic-ancestors-eat/
LOCATION:Fenland Archaeological Society
CATEGORIES:Non FRAG
ATTACH;FMTTYPE=image/jpeg:https://peterborougharchaeology.org/wp-content/uploads/2020/12/non-frag-event-image.jpg
END:VEVENT
BEGIN:VEVENT
DTSTART;VALUE=DATE:20230216
DTEND;VALUE=DATE:20230217
DTSTAMP:20260420T005938
CREATED:20221229T151724Z
LAST-MODIFIED:20230209T090918Z
UID:7429-1676505600-1676591999@peterborougharchaeology.org
SUMMARY:Peterborough Abbey before 1116
DESCRIPTION:Online Talk \nCathedral archaeologist\, Dr Jackie Hall\, presents the archaeological discoveries that inform our understanding of the Saxon abbeys that have gone before. \nA Peterborough Cathedral Event \nBackground on Jackie Hall’s work for the Cathedral
URL:https://peterborougharchaeology.org/event/peterborough-abbey-before-1116-2/
LOCATION:ON-LINE
CATEGORIES:Non FRAG
ATTACH;FMTTYPE=image/jpeg:https://peterborougharchaeology.org/wp-content/uploads/2020/12/non-frag-event-image.jpg
END:VEVENT
BEGIN:VEVENT
DTSTART;TZID=UTC:20230206T190000
DTEND;TZID=UTC:20230206T190000
DTSTAMP:20260420T005938
CREATED:20220902T094200Z
LAST-MODIFIED:20230202T122827Z
UID:7322-1675710000-1675710000@peterborougharchaeology.org
SUMMARY:Must Farm - Artefacts & Techniques
DESCRIPTION:The excavation of the Bronze Age settlement at Must Farm near Peterborough is one of the most significant in Europe this century. \nBetween 2015-16 a team from the Cambridge Archaeological Unit excavated the remains of a Bronze Age settlement in Whittlesey\, near Peterborough. The site’s archaeology proved to be spectacular and including the remains of pile-built houses and thousands of finds. \nSince the excavation finished over 50 specialists across the UK have been working on Must Farm’s artefacts\, environmental samples and data to understand the site’s use\, occupation and lifespan. This work has involved dozens of different techniques and helped refine our understanding of life in the Flag Fen basin almost 3\,000 years ago. \nThis talk discusses the excavation and focuses on specific artefacts from the site\, including some of its most notable finds such as a complete wheel and hafted axe\, to show how valuable post-excavation work is in enhancing our knowledge of the past. \nSpeaker: Chris Wakefield\, Engagement and Communications Officer\, Cambridge Archaeological Unit \nFREE for FRAG Members \nBackground on Must Farm
URL:https://peterborougharchaeology.org/event/must-farm-artefacts-techniques/
LOCATION:Parkway Sports Club\, Maskew Avenue\, Peterborough\, PE1 2AS
CATEGORIES:FRAG
ATTACH;FMTTYPE=image/jpeg:https://peterborougharchaeology.org/wp-content/uploads/2017/07/must-farm-excavating.jpg
ORGANIZER;CN="FRAG":MAILTO:enquiries@peterborougharchaeology.org
END:VEVENT
BEGIN:VEVENT
DTSTART;VALUE=DATE:20230127
DTEND;VALUE=DATE:20230128
DTSTAMP:20260420T005938
CREATED:20220902T092838Z
LAST-MODIFIED:20220902T092838Z
UID:7320-1674777600-1674863999@peterborougharchaeology.org
SUMMARY:Osteology in Archaeology
DESCRIPTION:A MidNAG Event
URL:https://peterborougharchaeology.org/event/osteology-in-archaeology/
CATEGORIES:Non FRAG
ATTACH;FMTTYPE=image/jpeg:https://peterborougharchaeology.org/wp-content/uploads/2020/12/non-frag-event-image.jpg
END:VEVENT
BEGIN:VEVENT
DTSTART;VALUE=DATE:20230119
DTEND;VALUE=DATE:20230120
DTSTAMP:20260420T005938
CREATED:20230113T124133Z
LAST-MODIFIED:20230114T103517Z
UID:7455-1674086400-1674172799@peterborougharchaeology.org
SUMMARY:Revealing the past through quarrying - Maxey
DESCRIPTION:A Helpston History Group Event \nA talk by Ian Meadows
URL:https://peterborougharchaeology.org/event/revealing-the-past-through-quarrying-maxey/
CATEGORIES:Non FRAG
ATTACH;FMTTYPE=image/jpeg:https://peterborougharchaeology.org/wp-content/uploads/2020/12/non-frag-event-image.jpg
END:VEVENT
BEGIN:VEVENT
DTSTART;VALUE=DATE:20230119
DTEND;VALUE=DATE:20230120
DTSTAMP:20260420T005938
CREATED:20230108T163747Z
LAST-MODIFIED:20230108T163806Z
UID:7440-1674086400-1674172799@peterborougharchaeology.org
SUMMARY:New Archaeological Discoveries of the A428
DESCRIPTION:A MOLA Online Talk
URL:https://peterborougharchaeology.org/event/new-archaeological-discoveries-of-the-a428/
CATEGORIES:Non FRAG
ATTACH;FMTTYPE=image/jpeg:https://peterborougharchaeology.org/wp-content/uploads/2020/12/non-frag-event-image.jpg
END:VEVENT
BEGIN:VEVENT
DTSTART;VALUE=DATE:20230116
DTEND;VALUE=DATE:20230117
DTSTAMP:20260420T005938
CREATED:20230108T162930Z
LAST-MODIFIED:20230108T162954Z
UID:7436-1673827200-1673913599@peterborougharchaeology.org
SUMMARY:Wimpole – its archaeology
DESCRIPTION:A HIAG event \nIn person at Histon or via Zoom
URL:https://peterborougharchaeology.org/event/wimpole-its-archaeology/
CATEGORIES:Non FRAG
ATTACH;FMTTYPE=image/jpeg:https://peterborougharchaeology.org/wp-content/uploads/2020/12/non-frag-event-image.jpg
ORGANIZER;CN="HIAG":MAILTO:hisimp.archaeology.group@gmail.com
END:VEVENT
BEGIN:VEVENT
DTSTART;TZID=UTC:20221205T190000
DTEND;TZID=UTC:20221205T190000
DTSTAMP:20260420T005938
CREATED:20220428T152903Z
LAST-MODIFIED:20221201T091825Z
UID:7182-1670266800-1670266800@peterborougharchaeology.org
SUMMARY:FRAG - Open Mic
DESCRIPTION:A return to the format which was so successful in September 2020. \nThis is a chance for FRAG members to share recent or favourite archaeology stories: Places visited; Objects found; Digs; Museums; Exhibitions etc\, etc. Each “talk” will be 10 to 15 minutes. \n\nAn Anchorhold in Peakirk church – Avril Lumley Prior\nSawtry Abbey – Kevin Redgate\nWhat is a Causewayed Enclosure? – Phil Hill\nKilmartin Glen – Rex Gibson\n\nThere will be a festive feel to this event\, with free raffle tickets\, mince pies and a hot drink! \nFREE for FRAG Members \nGuests and non members are welcome but a £5 charge applies \n  \nExtraordinary General Meeting: \nPlease note that before the Open Mic session we will be holding an EGM for FRAG members to vote upon the future of the group in 2023.  \nThe following resolution has been proposed: \nIt is resolved that the group be dissolved in accordance with the constitution unless by 31st December 2022 nominations are received for the following committee roles: Chair; Secretary; Treasurer; Events/Field Officer; Safeguarding Officer. \nWe do not expect this element of the meeting to last longer than 15 minutes. \n 
URL:https://peterborougharchaeology.org/event/frag-open-mic/
LOCATION:Parkway Sports Club\, Maskew Avenue\, Peterborough\, PE1 2AS
CATEGORIES:FRAG
ATTACH;FMTTYPE=image/jpeg:https://peterborougharchaeology.org/wp-content/uploads/2022/04/Open-Mic.jpg
ORGANIZER;CN="FRAG":MAILTO:enquiries@peterborougharchaeology.org
END:VEVENT
BEGIN:VEVENT
DTSTART;VALUE=DATE:20221117
DTEND;VALUE=DATE:20221118
DTSTAMP:20260420T005938
CREATED:20220205T144822Z
LAST-MODIFIED:20220205T144822Z
UID:7037-1668643200-1668729599@peterborougharchaeology.org
SUMMARY:Peterborough Abbey before 1116
DESCRIPTION:Peterborough Abbey before 1116 \nCathedral archaeologist Dr Jackie Hall presents the archaeological discoveries that inform our understanding of the Saxon abbeys that have gone before.
URL:https://peterborougharchaeology.org/event/peterborough-abbey-before-1116/
LOCATION:ON-LINE
CATEGORIES:Non FRAG
ATTACH;FMTTYPE=image/jpeg:https://peterborougharchaeology.org/wp-content/uploads/2020/12/non-frag-event-image.jpg
END:VEVENT
BEGIN:VEVENT
DTSTART;TZID=UTC:20221107T190000
DTEND;TZID=UTC:20221107T190000
DTSTAMP:20260420T005938
CREATED:20220727T133031Z
LAST-MODIFIED:20221031T095739Z
UID:7256-1667847600-1667847600@peterborougharchaeology.org
SUMMARY:Francis Pryor - Scenes from Prehistoric Life
DESCRIPTION:Scenes from Prehistoric Life:\nFrom the Ice Age to the Coming of the Romans: One Million Years of Life in the British Isles \nWe are delighted to welcome one of Britain’s most distinguished archaeologists and the excavator of Flag Fen. The talk by Francis Pryor will be based on his latest book\, “Scenes from Prehistoric Life”. Attendees will be able to purchase signed copies of the book. \n‘Highly compelling’ Spectator\, Books of the Year\n‘An evocative foray into the prehistoric past’\, BBC Countryfile Magazine\n‘Makes life in Britain BC often sound rather more appealing than the frenetic and anxious 21st century!’ Daily Mail \nFREE for FRAG Members \nFrancis Pryor paints a vivid picture of British and Irish prehistory\, from the Old Stone Age (about one million years ago) to the arrival of the Romans in AD 43\, in a sequence of fifteen profiles of ancient landscapes. Whether writing about the early human family who trod the estuarine muds of Happisburgh in Norfolk c.900\,000 BC\, the craftsmen who built a wooden trackway in the Somerset Levels early in the fourth millennium BC\, or the Iron Age denizens of Britain’s first towns\, Pryor uses excavations and surveys to uncover the daily routines of our ancient ancestors. By revealing how our prehistoric forebears coped with both simple practical problems and more existential challenges\, Francis Pryor offers remarkable insights into the long and unrecorded centuries of our early history\, and a convincing\, well-attested and movingly human portrait of prehistoric life as it was really lived. \nDr Francis Pryor MBE is an archaeologist specialising in the study of the Bronze Age and Iron Age in Britain. He was fundamental to the discovery and excavation of Flag Fen. He has worked extensively in the lower Welland and Nene valleys. Francis is well known for his frequent appearances on the Channel 4 television series Time Team. \n  \n 
URL:https://peterborougharchaeology.org/event/francis-pryor-scenes-from-historic-life/
LOCATION:Parkway Sports Club\, Maskew Avenue\, Peterborough\, PE1 2AS
CATEGORIES:FRAG
ATTACH;FMTTYPE=image/jpeg:https://peterborougharchaeology.org/wp-content/uploads/2022/07/francis-pryor-scenes.jpg
ORGANIZER;CN="FRAG":MAILTO:enquiries@peterborougharchaeology.org
END:VEVENT
BEGIN:VEVENT
DTSTART;VALUE=DATE:20221028
DTEND;VALUE=DATE:20221029
DTSTAMP:20260420T005938
CREATED:20220902T092603Z
LAST-MODIFIED:20220902T092603Z
UID:7318-1666915200-1667001599@peterborougharchaeology.org
SUMMARY:The Saxons - What You Never Liked to Ask
DESCRIPTION:Stephen Upex on what you always wanted to know about the Saxons but didn’t like to ask. \nA MidNAG event
URL:https://peterborougharchaeology.org/event/the-saxons-what-you-never-liked-to-ask/
CATEGORIES:Non FRAG
ATTACH;FMTTYPE=image/jpeg:https://peterborougharchaeology.org/wp-content/uploads/2020/12/non-frag-event-image.jpg
END:VEVENT
BEGIN:VEVENT
DTSTART;TZID=UTC:20221003T190000
DTEND;TZID=UTC:20221003T190000
DTSTAMP:20260420T005938
CREATED:20220130T102817Z
LAST-MODIFIED:20220928T083727Z
UID:7017-1664823600-1664823600@peterborougharchaeology.org
SUMMARY:Newstead Priory
DESCRIPTION:Newstead by Stamford Priory \nNewstead Priory between Stamford and Uffington was founded by William de Albini III early in the thirteenth century. It was endowed with the local mill\, assorted parcels of land\, and the chapel of the Blessed Mary at Newstead. It operated as an Augustinian priory for the next 300 years. \nThere is documentary evidence for the site and there are intriguing lumps and bumps in the landscape which probably reflect the location of buildings associated with the priory. The precise location and layout of the priory remains uncertain. Interpretation is complicated by the later Stamford Canal which cuts through the site. \nSpeaker: Nick Sheehan\, Uffington based local historian and author \nNick is author of the 2018 book\, “Newstead by Stamford Priory” and continues to search for more clues. \nFREE for FRAG members \nNewstead Priory – More Info
URL:https://peterborougharchaeology.org/event/newstead-priory/
LOCATION:Parkway Sports Club\, Maskew Avenue\, Peterborough\, PE1 2AS
CATEGORIES:FRAG
ATTACH;FMTTYPE=image/jpeg:https://peterborougharchaeology.org/wp-content/uploads/2022/01/google-2006.jpg
ORGANIZER;CN="FRAG":MAILTO:enquiries@peterborougharchaeology.org
END:VEVENT
BEGIN:VEVENT
DTSTART;VALUE=DATE:20221001
DTEND;VALUE=DATE:20221002
DTSTAMP:20260420T005938
CREATED:20220907T083227Z
LAST-MODIFIED:20220907T083402Z
UID:7333-1664582400-1664668799@peterborougharchaeology.org
SUMMARY:Topping Out of New Flag Fen Roundhouse
DESCRIPTION:A Flag Fen Event \n 
URL:https://peterborougharchaeology.org/event/topping-out-roundhouse/
CATEGORIES:Non FRAG
ATTACH;FMTTYPE=image/jpeg:https://peterborougharchaeology.org/wp-content/uploads/2020/12/non-frag-event-image.jpg
END:VEVENT
BEGIN:VEVENT
DTSTART;VALUE=DATE:20220930
DTEND;VALUE=DATE:20221001
DTSTAMP:20260420T005938
CREATED:20220902T092311Z
LAST-MODIFIED:20220902T092623Z
UID:7316-1664496000-1664582399@peterborougharchaeology.org
SUMMARY:Excavations of a Roman Site at Overstone
DESCRIPTION:Simon Marcus of MOLA presents the excavation of a Roman site in Northamptonshire. \nThis is a MidNAG event
URL:https://peterborougharchaeology.org/event/excavations-of-a-roman-site-at-overstone/
CATEGORIES:Non FRAG
ATTACH;FMTTYPE=image/jpeg:https://peterborougharchaeology.org/wp-content/uploads/2020/12/non-frag-event-image.jpg
END:VEVENT
BEGIN:VEVENT
DTSTART;TZID=UTC:20220905T190000
DTEND;TZID=UTC:20220905T190000
DTSTAMP:20260420T005938
CREATED:20220129T173014Z
LAST-MODIFIED:20220727T172806Z
UID:7010-1662404400-1662404400@peterborougharchaeology.org
SUMMARY:Saxon Settlement  at Buckden
DESCRIPTION:The Saxon Settlement Excavations at Buckden \nOxford Archaeology recently excavated a 6-hectare rural site south of Buckden\, between St Neots and Huntingdon. Highlights were a large Bronze-Age cremation cemetery and an early to middle Saxon settlement that included exceptionally large and complex examples of a sunken featured building and a hall. \nA rare iron plough coulter (possibly deliberately buried) is evidence for a major shift in agricultural technology and possible ritual deposition. Other finds include glass beads and vessel fragments\, coins including two sceattas and two pennies (both Offa)\, 41 bone combs\, 28 knives\, over 100 loom weights. The quality and range of features and finds suggests this settlement may have been a Saxon estate centre. \nSpeaker: James Fairbairn\, Project Officer\, Oxford Archaeology East \nLong term FRAG members will remember James from the community excavation of the Itter Crescent villa\, and his talk about parts of a Spitfire retrieved from Holme Fen. \nFREE for FRAG members
URL:https://peterborougharchaeology.org/event/saxon-settlement-at-buckden/
LOCATION:Parkway Sports Club\, Maskew Avenue\, Peterborough\, PE1 2AS
CATEGORIES:FRAG
ATTACH;FMTTYPE=image/jpeg:https://peterborougharchaeology.org/wp-content/uploads/2022/01/saxon-barn-jarrow-hall-1.jpg
ORGANIZER;CN="FRAG":MAILTO:enquiries@peterborougharchaeology.org
END:VEVENT
BEGIN:VEVENT
DTSTART;TZID=UTC:20220827T103000
DTEND;TZID=UTC:20220827T103000
DTSTAMP:20260420T005938
CREATED:20220428T150426Z
LAST-MODIFIED:20220812T075051Z
UID:7177-1661596200-1661596200@peterborougharchaeology.org
SUMMARY:VISIT: Crowland Excavation
DESCRIPTION:THIS EVENT IS NOW FULL \nFRAG has arranged a group visit to the excavation at Anchor Church Field\, Crowland. \nThis is the second year of an investigation by Newcastle and Sheffield universities. Several buildings have been revealed and their association with the 8th century St Guthlac is being explored. \nOur provisional plan is to meet at about 10.30am. FRAG members\, Rex Gibson and Avril Lumley Prior will provide background to the site\, the cult of St Guthlac\, and the associations with St Pega. The excavation team led by Dr Duncan Wright and Dr Hugh Willmott will then be our guides\, explaining what has been discovered so far this year. We expect the visit to last 60-90 minutes in total. \nFREE for FRAG Members – £5 for Non members \nTo register your interest in joining the visit please complete the application form. \nUntil 12th August priority will be given to FRAG members and their guests. We will not be confirming places and plans until then. If we need to limit numbers this will be on a first come first served basis. \nPayment for non members will be collected on the day. \nDr Duncan Wright is Lecturer in Medieval Archaeology within the School of History\, Classics\, and Archaeology at Newcastle University. Dr Hugh Willmott is Senior Lecturer in European Historical Archaeology at Sheffield University.  \nA previous post contains some background on the site and the 2021 dig: \nDetails about the Crowland Site \nPlease note that the excavation team is hoping to arrange an open day for the general public to take place the following weekend.
URL:https://peterborougharchaeology.org/event/visit-crowland-excavation/
CATEGORIES:FRAG
ATTACH;FMTTYPE=image/jpeg:https://peterborougharchaeology.org/wp-content/uploads/2021/08/20210814_105816-zoom.jpg
ORGANIZER;CN="FRAG":MAILTO:enquiries@peterborougharchaeology.org
END:VEVENT
END:VCALENDAR