BEGIN:VCALENDAR
VERSION:2.0
PRODID:-//Peterborough Archaeology - ECPv6.15.20//NONSGML v1.0//EN
CALSCALE:GREGORIAN
METHOD:PUBLISH
X-WR-CALNAME:Peterborough Archaeology
X-ORIGINAL-URL:https://peterborougharchaeology.org
X-WR-CALDESC:Events for Peterborough Archaeology
REFRESH-INTERVAL;VALUE=DURATION:PT1H
X-Robots-Tag:noindex
X-PUBLISHED-TTL:PT1H
BEGIN:VTIMEZONE
TZID:UTC
BEGIN:STANDARD
TZOFFSETFROM:+0000
TZOFFSETTO:+0000
TZNAME:UTC
DTSTART:20220101T000000
END:STANDARD
END:VTIMEZONE
BEGIN:VEVENT
DTSTART;TZID=UTC:20231031T193000
DTEND;TZID=UTC:20231031T193000
DTSTAMP:20260420T063154
CREATED:20231011T160007Z
LAST-MODIFIED:20231011T160341Z
UID:7833-1698780600-1698780600@peterborougharchaeology.org
SUMMARY:The Snettisham Hoard
DESCRIPTION:The Amazing Hoards found at Snettisham\, Norfolk \nA CBA East Event \nDetails & tickets on Eventbrite
URL:https://peterborougharchaeology.org/event/the-snettisham-hoard-2/
CATEGORIES:Non FRAG
END:VEVENT
BEGIN:VEVENT
DTSTART;VALUE=DATE:20231027
DTEND;VALUE=DATE:20231028
DTSTAMP:20260420T063154
CREATED:20230727T095625Z
LAST-MODIFIED:20231001T094549Z
UID:7676-1698364800-1698451199@peterborougharchaeology.org
SUMMARY:Return to Must Farm
DESCRIPTION:A MidNAG event \nReturn to Must Farm – Britain’s Pompeii \nThe excavation of the structure of a Bronze Age house at Must Farm. A follow-up on the exciting discoveries from the Must Farm excavation which Mark talked about back in March 2018\, and the new information provided by the specialist reports in the intervening period. \nSpeaker: Mark Knight\, Cambridge Archaeological Unit \nOundle \nNon-FRAG
URL:https://peterborougharchaeology.org/event/return-to-must-farm/
CATEGORIES:Non FRAG
END:VEVENT
BEGIN:VEVENT
DTSTART;TZID=UTC:20231025T190000
DTEND;TZID=UTC:20231025T190000
DTSTAMP:20260420T063154
CREATED:20231016T102033Z
LAST-MODIFIED:20231016T102057Z
UID:7846-1698260400-1698260400@peterborougharchaeology.org
SUMMARY:RAF Alconbury - Roman Archaeology
DESCRIPTION:Roman Stranger Things at RAF Alconbury \nA talk by Paddy Lambert \nOrganised by FENARCH \nA Non FRAG Event
URL:https://peterborougharchaeology.org/event/raf-alconbury-roman-archaeology/
CATEGORIES:Non FRAG
END:VEVENT
BEGIN:VEVENT
DTSTART;VALUE=DATE:20231023
DTEND;VALUE=DATE:20231028
DTSTAMP:20260420T063154
CREATED:20230831T163339Z
LAST-MODIFIED:20231016T091318Z
UID:7759-1698019200-1698451199@peterborougharchaeology.org
SUMMARY:EXCAVATION - Peakirk Test Pits - POSTPONED
DESCRIPTION:Sadly\, this event has had to be postponed  \nAn Opportunity to Dig! \nFRAG is joining forces with the Peakirk Archaeological Survey Team to determine whether and where Car Dyke transits Peakirk village green. \nIt provides an opportunity for both FRAG members and those living in the village to participate in archaeological excavation. \nExcavation Strategy \nThis is the first session of the first season of archaeological excavations undertaken as a joint venture with Peakirk Archaeological Survey Team (PAST) within Peakirk\, and is a continuation of previous archaeological investigations carried out by PAST. The aim of this session is to determine whether the Car Dyke transits the village green as suggested by earlier archaeological excavations and ascertain its alignment. Locations of previous PAST test pits in the village green and relative to the geophysical anomaly assessed as the Car Dyke can be found in Attachments 4 and 5 of the Event Information Sheet.
URL:https://peterborougharchaeology.org/event/excavation-peakirk-test-pits/
CATEGORIES:FRAG
ATTACH;FMTTYPE=image/jpeg:https://peterborougharchaeology.org/wp-content/uploads/2023/08/PAST-dig.jpg
ORGANIZER;CN="FRAG":MAILTO:enquiries@peterborougharchaeology.org
END:VEVENT
BEGIN:VEVENT
DTSTART;VALUE=DATE:20231021
DTEND;VALUE=DATE:20231022
DTSTAMP:20260420T063154
CREATED:20230725T220027Z
LAST-MODIFIED:20231001T094501Z
UID:7630-1697846400-1697932799@peterborougharchaeology.org
SUMMARY:Archaeology and Antiquarianism – NVAT Conference
DESCRIPTION:To commemorate the 200th anniversary of ET Artis’ book on the Roman town of Durobrivae\, the Nene Valley Archaeological Trust is holding a day of talks to look at some of the prominent figures during the transition from antiquarianism to archaeology. \nSpeakers include Prof Stephen Upex (Cambridge University)\, Prof Sarah Scott (Leicester University) and Prof Mark White (Durham University). \nThe event takes place at the Thomas Deacon Academy in Peterborough. \nFor full details and booking visit the NVAT website. \nNon-FRAG \nDetails & Booking
URL:https://peterborougharchaeology.org/event/archaeology-and-antiquarianism-nvat-conference-3/
CATEGORIES:Non FRAG
END:VEVENT
BEGIN:VEVENT
DTSTART;TZID=UTC:20231019T190000
DTEND;TZID=UTC:20231019T190000
DTSTAMP:20260420T063154
CREATED:20231001T092000Z
LAST-MODIFIED:20231001T092144Z
UID:7812-1697742000-1697742000@peterborougharchaeology.org
SUMMARY:A History of the English
DESCRIPTION:A HISTORY OF THE ENGLISH \nPresenter Stephen Pollington\nLocation Castor Village Hall\, OR Zoom \nJoin Stephen on a journey through Anglo Saxon times 450-1066. Learn about language\, history and culture of life in Mercian Castor around 550-700 during which time Cyneburh (Kyneburgha) was living here. \nA St Kyneburgha Building Preservation Trust Event
URL:https://peterborougharchaeology.org/event/a-history-of-the-english/
CATEGORIES:Non FRAG
ORGANIZER;CN="St Kyneburgha Trust":MAILTO:hello@castorchurchtrust.co.uk
END:VEVENT
BEGIN:VEVENT
DTSTART;VALUE=DATE:20231014
DTEND;VALUE=DATE:20231015
DTSTAMP:20260420T063154
CREATED:20230929T093731Z
LAST-MODIFIED:20230929T094916Z
UID:7802-1697241600-1697327999@peterborougharchaeology.org
SUMMARY:Roman Pottery - Conference
DESCRIPTION:Study Group for Roman Pottery – Annual Conference – Milton Keynes \nThe SGRP welcomes anybody interested in Roman archaeology. \nThe Conference is in Milton Keynes but there is also an option to participate online.
URL:https://peterborougharchaeology.org/event/roman-pottery-conference/
CATEGORIES:Non FRAG
ORGANIZER;CN="Study Group for Roman Pottery":MAILTO:treasurer.sgrp@gmail.com
END:VEVENT
BEGIN:VEVENT
DTSTART;VALUE=DATE:20231009
DTEND;VALUE=DATE:20231010
DTSTAMP:20260420T063154
CREATED:20230727T093804Z
LAST-MODIFIED:20231001T094349Z
UID:7665-1696809600-1696895999@peterborougharchaeology.org
SUMMARY:The Early Iron Age origins of the Cambridgeshire Dykes
DESCRIPTION:A Histon & Impington Archaeology Group event. \nThe Early Iron Age origins of the Cambridgeshire Dykes \nSpeaker – Richard Mortimer \nAttend in person or online \nNon-FRAG
URL:https://peterborougharchaeology.org/event/cambidgshire-dykes/
CATEGORIES:Non FRAG
ORGANIZER;CN="HIAG":MAILTO:hisimp.archaeology.group@gmail.com
END:VEVENT
BEGIN:VEVENT
DTSTART;TZID=UTC:20231002T190000
DTEND;TZID=UTC:20231002T190000
DTSTAMP:20260420T063154
CREATED:20230830T170531Z
LAST-MODIFIED:20231001T093925Z
UID:7731-1696273200-1696273200@peterborougharchaeology.org
SUMMARY:The Great Heathen Army
DESCRIPTION:Viking Camps and the Great Heathen Army \nFrom AD 865 to 878 the Viking ‘Great Heathen Army’ wreaked havoc on the Anglo-Saxon kingdoms of Britain\, leading to political conquest and settlement across northern and eastern England. Whilst earlier Viking raids had largely been coastal hit-and-run affairs\, this period saw a change in tactics\, with Scandinavian forces overwintering at strategic locations across the country. Yet despite the pivotal role of the Great Army\, little is known of it: documentary sources provide few insights\, and until now archaeological evidence has largely remained elusive. However\, in the early years of the 21st century\, the locations of two winter camps were identified. \nThese sites at Torksey\, Lincolnshire\, and Aldwark\, North Yorkshire\, have yielded thousands of metal finds\, showing the Army processing loot\, trading\, repairing equipment\, and preparing for upcoming campaigns. The two camps have revolutionised the understanding of the Great Army and other Viking forces\, and tell the story of the early years of the Scandinavian settlement of England. \nSpeaker: Mark Randerson \nMark Randerson is an archaeologist with over thirty years’ involvement in fieldwork\, specialising in the early medieval period. Now based at the Historic Environment Records at North Yorkshire and Durham Councils\, he has recently completed a project with the University of York\, cataloguing and comparing the finds from the two camps. \nFREE for FRAG Members \nNon-members welcome – £5 cash\, payable on the night\n(card payment not currently possible) \nThe Venue for FRAG Talks is: \nUniversity Centre Peterborough\nPark Crescent\nPE1 4DZ \nWhat3words:  https://w3w.co/grants.liner.slime \nThis is NOT the new university building in the centre of the city\, but is on a shared campus with Peterborough College and is accessed from Park Crescent. \nThere is on-site parking available. \nThe lecture theatre is on the first floor; a lift is available. \nGoogle Map
URL:https://peterborougharchaeology.org/event/great-heathen-army/
LOCATION:University Centre Peterborough\, Park Crescent\, Peterborough\, PE1 4DZ
CATEGORIES:FRAG
ATTACH;FMTTYPE=image/jpeg:https://peterborougharchaeology.org/wp-content/uploads/2023/08/great-heathen-army.jpg
ORGANIZER;CN="FRAG":MAILTO:enquiries@peterborougharchaeology.org
END:VEVENT
BEGIN:VEVENT
DTSTART;VALUE=DATE:20230929
DTEND;VALUE=DATE:20230930
DTSTAMP:20260420T063154
CREATED:20230727T095125Z
LAST-MODIFIED:20230728T151943Z
UID:7673-1695945600-1696031999@peterborougharchaeology.org
SUMMARY:Tudor Palace at Collyweston
DESCRIPTION:A MidNAG event \nThe Excavation of the Tudor palace at Collyweston \nSpeaker: Chris Close\, Collyweston Archaeological Society \nOundle \nNon-FRAG
URL:https://peterborougharchaeology.org/event/tudor-palace-at-collyweston/
CATEGORIES:Non FRAG
END:VEVENT
BEGIN:VEVENT
DTSTART;VALUE=DATE:20230923
DTEND;VALUE=DATE:20230925
DTSTAMP:20260420T063154
CREATED:20230901T173418Z
LAST-MODIFIED:20230901T174129Z
UID:7774-1695427200-1695599999@peterborougharchaeology.org
SUMMARY:Elizabeth Cromwell Remembered
DESCRIPTION:The Sealed Knot are coming to Northborough to remember Elizabeth Cromwell\, the wife of Oliver Cromwell\, who lived in Northborough Manor and is buried in St Andrew’s Church.
URL:https://peterborougharchaeology.org/event/elizabeth-cromwell-remembered/
CATEGORIES:Non FRAG
END:VEVENT
BEGIN:VEVENT
DTSTART;VALUE=DATE:20230916
DTEND;VALUE=DATE:20230918
DTSTAMP:20260420T063154
CREATED:20230912T092342Z
LAST-MODIFIED:20230912T092342Z
UID:7788-1694822400-1694995199@peterborougharchaeology.org
SUMMARY:Threekingham Viking Festival
DESCRIPTION:300+ marauding Vikings will return to Threekingham nearly 1053 years to the day to avenge the deaths of their 3 Kings at the Battle of Stow. Join us to witness the daily battles\, and immerse yourselves in the vast living history camp\, learning to live and fight as a Viking. Help us unearth the treasures that lie beneath the battlefield in an archaeological dig. For the more serious historians a series of lectures will be held daily in St Peters Church focussing on the lives of the Vikings both here and abroad.
URL:https://peterborougharchaeology.org/event/threekingham-viking-festival/
CATEGORIES:Non FRAG
END:VEVENT
BEGIN:VEVENT
DTSTART;TZID=UTC:20230904T190000
DTEND;TZID=UTC:20230904T190000
DTSTAMP:20260420T063154
CREATED:20230830T162620Z
LAST-MODIFIED:20230830T164803Z
UID:7716-1693854000-1693854000@peterborougharchaeology.org
SUMMARY:Medieval Peterborough
DESCRIPTION:Medieval Peterborough \nDiscover the story of the medieval town; find out what life would have been like for the monks and citizens of Peterborough through plague\, fire\, flood\, riot and war. \nSpeaker: Stuart Orme\, Curator of the Cromwell Museum in Huntingdon and former Director of Operations at Peterborough Cathedral \nFREE for FRAG Members \nNon-members welcome – £5 cash\, payable on the night\n(card payment not currently possible) \nThe Venue for FRAG Talks is: \nUniversity Centre Peterborough\nPark Crescent\nPE1 4DZ \nWhat3words:  https://w3w.co/grants.liner.slime \nThis is NOT the new university building in the centre of the city\, but is on a shared campus with Peterborough College and is accessed from Park Crescent. \nThere is on-site parking available. \nThe lecture theatre is on the first floor; a lift is available. \nGoogle Map
URL:https://peterborougharchaeology.org/event/medieval-peterborough/
LOCATION:University Centre Peterborough\, Park Crescent\, Peterborough\, PE1 4DZ
CATEGORIES:FRAG
ATTACH;FMTTYPE=image/jpeg:https://peterborougharchaeology.org/wp-content/uploads/2023/08/medieval-peterborough-benedict-chapel.jpg
ORGANIZER;CN="FRAG":MAILTO:enquiries@peterborougharchaeology.org
END:VEVENT
BEGIN:VEVENT
DTSTART;VALUE=DATE:20230812
DTEND;VALUE=DATE:20230827
DTSTAMP:20260420T063154
CREATED:20230708T121138Z
LAST-MODIFIED:20230728T152128Z
UID:7608-1691798400-1693094399@peterborougharchaeology.org
SUMMARY:Excavation at Barnwell
DESCRIPTION:MidNAG are returning to the site of a Roman aisled barn excavated some years ago at Barnwell near Oundle. They need volunteers. \nNon-FRAG \n  \n  \n  \n  \nDetails on MidNAG Website
URL:https://peterborougharchaeology.org/event/excavation-at-barnwell/
CATEGORIES:Non FRAG
END:VEVENT
BEGIN:VEVENT
DTSTART;VALUE=DATE:20230803
DTEND;VALUE=DATE:20230805
DTSTAMP:20260420T063154
CREATED:20230722T120138Z
LAST-MODIFIED:20230801T101743Z
UID:7611-1691020800-1691193599@peterborougharchaeology.org
SUMMARY:Milton Excavation - Open Days
DESCRIPTION:An Archaeological Research Services Event. \nThis company has been undertaking an excavation in advance of a proposed new police station in Cambridge. \nParking is facilitated at the Milton Park & Ride car park \nNon-FRAG
URL:https://peterborougharchaeology.org/event/milton-excavation-open-days/
CATEGORIES:Non FRAG
END:VEVENT
BEGIN:VEVENT
DTSTART;VALUE=DATE:20230727
DTEND;VALUE=DATE:20230728
DTSTAMP:20260420T063154
CREATED:20230708T114253Z
LAST-MODIFIED:20230728T152259Z
UID:7601-1690416000-1690502399@peterborougharchaeology.org
SUMMARY:Elton - Walk through time - Stephen Upex
DESCRIPTION:An event organised by the Elton Wesleyan Methodist Chapel
URL:https://peterborougharchaeology.org/event/elton-walk-through-time-stephen-upex/
CATEGORIES:Non FRAG
END:VEVENT
BEGIN:VEVENT
DTSTART;VALUE=DATE:20230722
DTEND;VALUE=DATE:20230831
DTSTAMP:20260420T063154
CREATED:20230727T092758Z
LAST-MODIFIED:20230728T152356Z
UID:7662-1689984000-1693439999@peterborougharchaeology.org
SUMMARY:Flag Fen - Join the Dig!
DESCRIPTION:Holiday fun for children. \nEver wanted to know what it’s like to be an archaeologist for the day? Well\, check out Flag Fen during the holidays to find out! \nCram thousands of years into just one day as you dig through history and piece together stories of the past using the clues you find along the way. \nNon-FRAG
URL:https://peterborougharchaeology.org/event/flag-fen-join-the-dig/
CATEGORIES:Non FRAG
END:VEVENT
BEGIN:VEVENT
DTSTART;VALUE=DATE:20230624
DTEND;VALUE=DATE:20230626
DTSTAMP:20260420T063154
CREATED:20230610T101315Z
LAST-MODIFIED:20230610T104302Z
UID:7586-1687564800-1687737599@peterborougharchaeology.org
SUMMARY:Chester House - Roman Festival 2023
DESCRIPTION:In partnership with the University of Leicester\, Chester House is hosting their second Roman Festival. \nAdmission for adults and children is FREE but tickets must be pre-booked. \nChester House is situated just off the eastbound A45 between Wellingborough and Rushden. \nBOOKING & FULL DETAILS \nActivities include: \nRoman re-enacting group\, the Ermine Street Guard \nRoman pottery and craft demonstrations \nTours of the excavations – speak to archaeologists and get a chance to handle real finds \nShort talks from archaeologists and curators throughout the day on Roman life \nNorthamptonshire Archaeological Resource Centre visits to see amazing Roman objects \nWash finds from the Chester House excavation \nStalls with fun Roman themed activities for all ages \nFRAG will be running a stall at the festival
URL:https://peterborougharchaeology.org/event/chester-house-roman-festival-2023/
CATEGORIES:Non FRAG
ATTACH;FMTTYPE=image/jpeg:https://peterborougharchaeology.org/wp-content/uploads/2023/06/chester-farm-romans.jpg
END:VEVENT
BEGIN:VEVENT
DTSTART;VALUE=DATE:20230607
DTEND;VALUE=DATE:20230608
DTSTAMP:20260420T063154
CREATED:20230108T164231Z
LAST-MODIFIED:20230209T091025Z
UID:7442-1686096000-1686182399@peterborougharchaeology.org
SUMMARY:East Anglia in the Middle Bronze Age
DESCRIPTION:A HIAG & FEAG Event \nIn person at Rampton or via Zoom
URL:https://peterborougharchaeology.org/event/east-anglia-in-the-middle-bronze-age/
CATEGORIES:Non FRAG
ATTACH;FMTTYPE=image/jpeg:https://peterborougharchaeology.org/wp-content/uploads/2020/12/non-frag-event-image.jpg
ORGANIZER;CN="HIAG":MAILTO:hisimp.archaeology.group@gmail.com
END:VEVENT
BEGIN:VEVENT
DTSTART;TZID=UTC:20230605T190000
DTEND;TZID=UTC:20230605T190000
DTSTAMP:20260420T063154
CREATED:20230407T113415Z
LAST-MODIFIED:20230525T113730Z
UID:7569-1685991600-1685991600@peterborougharchaeology.org
SUMMARY:Causewayed Enclosures
DESCRIPTION:Causewayed Enclosures are a form of early Neolithic earthwork\, first appearing between 3700 and 3600BC. They are encircled by one to four concentric ditches with an internal bank. Crossing the ditches at intervals are causeways which give the monuments their name. They are generally interpreted as ritual or communal places rather than for settlement. There are a surprising number of them in the Peterborough area. This talk will tell us more! \nSpeaker: Phil Hill\, Oxford Archaeology East \nFREE for FRAG Members \n  \nBackground information on this website: \nMaxey & Etton Neolithic Landscape
URL:https://peterborougharchaeology.org/event/causewayed-enclosures/
LOCATION:Parkway Sports Club\, Maskew Avenue\, Peterborough\, PE1 2AS
CATEGORIES:FRAG
ATTACH;FMTTYPE=image/jpeg:https://peterborougharchaeology.org/wp-content/uploads/2018/03/google-earth-2006-maxey-etton-annotated.jpg
ORGANIZER;CN="FRAG":MAILTO:enquiries@peterborougharchaeology.org
END:VEVENT
BEGIN:VEVENT
DTSTART;TZID=UTC:20230428T193000
DTEND;TZID=UTC:20230428T193000
DTSTAMP:20260420T063154
CREATED:20230330T113432Z
LAST-MODIFIED:20230330T113432Z
UID:7565-1682710200-1682710200@peterborougharchaeology.org
SUMMARY:Crucifixion in Roman Britain
DESCRIPTION:A MidNag Event \nA Talk by David Ingham
URL:https://peterborougharchaeology.org/event/crucifixion-in-roman-britain/
CATEGORIES:Non FRAG
ATTACH;FMTTYPE=image/jpeg:https://peterborougharchaeology.org/wp-content/uploads/2020/12/non-frag-event-image.jpg
END:VEVENT
BEGIN:VEVENT
DTSTART;TZID=UTC:20230419T193000
DTEND;TZID=UTC:20230419T193000
DTSTAMP:20260420T063154
CREATED:20230330T112141Z
LAST-MODIFIED:20230330T112918Z
UID:7557-1681932600-1681932600@peterborougharchaeology.org
SUMMARY:Going to Church in Medieval England
DESCRIPTION:A Joint Cambridge Antiquarian Society and Huntingdonshire Local History Society Event \nProfessor Orme will talk on the subject of his Daily Telegraph ‘Book of the Year’ 2022 from the perspective of a Cambridgeshire or Huntingdonshire parishioner. \nBook signing and reception afterwards
URL:https://peterborougharchaeology.org/event/going-to-church-in-medieval-england/
CATEGORIES:Non FRAG
ATTACH;FMTTYPE=image/jpeg:https://peterborougharchaeology.org/wp-content/uploads/2020/12/non-frag-event-image.jpg
ORGANIZER;CN="Cambridge Antiquarian Society":MAILTO:secretary@camantsoc.org
END:VEVENT
BEGIN:VEVENT
DTSTART;TZID=UTC:20230411T193000
DTEND;TZID=UTC:20230411T193000
DTSTAMP:20260420T063154
CREATED:20230116T094947Z
LAST-MODIFIED:20230330T112341Z
UID:7463-1681241400-1681241400@peterborougharchaeology.org
SUMMARY:The Romans in the Nene Valley
DESCRIPTION:A Peterborough Museum Society Event \nTalk by Stehpen Upex
URL:https://peterborougharchaeology.org/event/the-romans-in-the-nene-valley/
LOCATION:Peterborough Museum\, 51 Priestgate\, Peterborough\, PE1 1LF
CATEGORIES:Non FRAG
ATTACH;FMTTYPE=image/jpeg:https://peterborougharchaeology.org/wp-content/uploads/2020/12/non-frag-event-image.jpg
END:VEVENT
BEGIN:VEVENT
DTSTART;TZID=UTC:20230403T191500
DTEND;TZID=UTC:20230403T191500
DTSTAMP:20260420T063154
CREATED:20230111T165209Z
LAST-MODIFIED:20230322T091648Z
UID:7448-1680549300-1680549300@peterborougharchaeology.org
SUMMARY:Return to Priors Hall & FRAG AGM
DESCRIPTION:The first part of the evening will be the FRAG Annual General Meeting when the important business will be to elect a new committee to take the group forward. A list of proposed committee members is included in the agenda: \nFRAG AGM 2023 – Agenda \nFRAG AGM 2022 – Minutes  \nPart two will be a return visit by Paddy Lambert from Oxford Archaeology East. In March 2022 he introduced us to the rare remains of a Romano-British temple-mausoleum associated with an early villa at Priors Hall\, near Corby. The excavation won the Current Archaeology Project of the Year. The team has since returned to the site and found out more about its Iron Age beginnings and broader site context. \nFREE for FRAG members \n  \nPLEASE NOTE: \nTHIS MEETING IS BEING HELD AT  – THE PASTON COMMUNITY CENTRE – PE4 7YH \nThe start time is 7.15pm as the hall is not available any earlier
URL:https://peterborougharchaeology.org/event/return-to-priors-hall-frag-agm/
LOCATION:Paston and Gunthorpe Community Centre\, Hallfields Lane\, Peterborough\, PE4 7YH
CATEGORIES:FRAG
ATTACH;FMTTYPE=image/jpeg:https://peterborougharchaeology.org/wp-content/uploads/2023/01/priors-hall-return.jpg
ORGANIZER;CN="FRAG":MAILTO:enquiries@peterborougharchaeology.org
END:VEVENT
BEGIN:VEVENT
DTSTART;VALUE=DATE:20230323
DTEND;VALUE=DATE:20230324
DTSTAMP:20260420T063154
CREATED:20230209T093128Z
LAST-MODIFIED:20230209T100333Z
UID:7539-1679529600-1679615999@peterborougharchaeology.org
SUMMARY:The Medieval Agricultural Revolution
DESCRIPTION:A Gresham College Free Event \nAncient Landscapes of Britain – 2023 Lecture Series \nProfessor Helena Hamerow
URL:https://peterborougharchaeology.org/event/the-medieval-agricultural-revolution/
CATEGORIES:Non FRAG
ATTACH;FMTTYPE=image/jpeg:https://peterborougharchaeology.org/wp-content/uploads/2020/12/non-frag-event-image.jpg
END:VEVENT
BEGIN:VEVENT
DTSTART;VALUE=DATE:20230315
DTEND;VALUE=DATE:20230316
DTSTAMP:20260420T063154
CREATED:20230209T092846Z
LAST-MODIFIED:20230209T093303Z
UID:7537-1678838400-1678924799@peterborougharchaeology.org
SUMMARY:Landscapes of Roman Britain
DESCRIPTION:A Gresham College Free Lecture \nAncient Landscapes of Britain – 2023 Lecture Series \nSpeaker – Professor Martin Millett
URL:https://peterborougharchaeology.org/event/7537/
CATEGORIES:Non FRAG
ATTACH;FMTTYPE=image/jpeg:https://peterborougharchaeology.org/wp-content/uploads/2020/12/non-frag-event-image.jpg
END:VEVENT
BEGIN:VEVENT
DTSTART;VALUE=DATE:20230313
DTEND;VALUE=DATE:20230314
DTSTAMP:20260420T063154
CREATED:20230108T163250Z
LAST-MODIFIED:20230108T163323Z
UID:7438-1678665600-1678751999@peterborougharchaeology.org
SUMMARY:Excavations at Darwin Green
DESCRIPTION:A HIAG Event \nIn person and via Zoom
URL:https://peterborougharchaeology.org/event/excavations-at-darwin-green/
CATEGORIES:Non FRAG
ATTACH;FMTTYPE=image/jpeg:https://peterborougharchaeology.org/wp-content/uploads/2020/12/non-frag-event-image.jpg
ORGANIZER;CN="HIAG":MAILTO:hisimp.archaeology.group@gmail.com
END:VEVENT
BEGIN:VEVENT
DTSTART;TZID=UTC:20230306T190000
DTEND;TZID=UTC:20230306T190000
DTSTAMP:20260420T063154
CREATED:20220727T153244Z
LAST-MODIFIED:20230111T163740Z
UID:7271-1678129200-1678129200@peterborougharchaeology.org
SUMMARY:Thirsty Work: The Mineral Water Manufacturers of Peterborough
DESCRIPTION:In the late 19th and early 20th century Peterborough became well known for its suppliers of mineral waters. \nSpeaker: Dr Avril Lumley Prior \nFREE for FRAG Members \nDr Avril Lumley Prior developed an interest in Anglo-Saxon history during her childhood in Sunderland and since being in Peterborough has turned her attention to Mercian studies. Avril attained an MA and a PhD on historically-based subjects\, and has conducted local research with the Peakirk Archaeological Survey Team. Her exploration of local mineral water suppliers was undertaken with her late husband\, Greg\, and will be published soon. \nThis talk was originally scheduled for 9th January but had to be postponed
URL:https://peterborougharchaeology.org/event/mineral-water-manufacturers-peterborough/
LOCATION:Parkway Sports Club\, Maskew Avenue\, Peterborough\, PE1 2AS
CATEGORIES:FRAG
ATTACH;FMTTYPE=image/jpeg:https://peterborougharchaeology.org/wp-content/uploads/2022/07/water-bottles.jpg
ORGANIZER;CN="FRAG":MAILTO:enquiries@peterborougharchaeology.org
END:VEVENT
BEGIN:VEVENT
DTSTART;VALUE=DATE:20230302
DTEND;VALUE=DATE:20230303
DTSTAMP:20260420T063154
CREATED:20230116T094422Z
LAST-MODIFIED:20230116T094422Z
UID:7460-1677715200-1677801599@peterborougharchaeology.org
SUMMARY:Protecting Cathedral Cities
DESCRIPTION:Protecting Cathedral Cities \nA talk by Simon Thurley \nA Peterborough Museum Society Event
URL:https://peterborougharchaeology.org/event/protecting-cathedral-cities/
CATEGORIES:Non FRAG
ATTACH;FMTTYPE=image/jpeg:https://peterborougharchaeology.org/wp-content/uploads/2020/12/non-frag-event-image.jpg
END:VEVENT
BEGIN:VEVENT
DTSTART;VALUE=DATE:20230223
DTEND;VALUE=DATE:20230224
DTSTAMP:20260420T063154
CREATED:20230209T092302Z
LAST-MODIFIED:20230209T093349Z
UID:7532-1677110400-1677196799@peterborougharchaeology.org
SUMMARY:Stonehenge: A History
DESCRIPTION:A Gresham College Free Lecture \nAncient Landscapes of Britain – 2023 Lecture Series \nSpeaker – Mike Pitts
URL:https://peterborougharchaeology.org/event/stonehenge-a-history/
CATEGORIES:Non FRAG
ATTACH;FMTTYPE=image/jpeg:https://peterborougharchaeology.org/wp-content/uploads/2020/12/non-frag-event-image.jpg
END:VEVENT
END:VCALENDAR