BEGIN:VCALENDAR
VERSION:2.0
PRODID:-//Peterborough Archaeology - ECPv6.15.20//NONSGML v1.0//EN
CALSCALE:GREGORIAN
METHOD:PUBLISH
X-ORIGINAL-URL:https://peterborougharchaeology.org
X-WR-CALDESC:Events for Peterborough Archaeology
REFRESH-INTERVAL;VALUE=DURATION:PT1H
X-Robots-Tag:noindex
X-PUBLISHED-TTL:PT1H
BEGIN:VTIMEZONE
TZID:UTC
BEGIN:STANDARD
TZOFFSETFROM:+0000
TZOFFSETTO:+0000
TZNAME:UTC
DTSTART:20210101T000000
END:STANDARD
END:VTIMEZONE
BEGIN:VEVENT
DTSTART;TZID=UTC:20220509T190000
DTEND;TZID=UTC:20220509T190000
DTSTAMP:20260421T154444
CREATED:20211013T180529Z
LAST-MODIFIED:20220228T182559Z
UID:6714-1652122800-1652122800@peterborougharchaeology.org
SUMMARY:Peterborough Cathedral
DESCRIPTION:History of Peterborough Cathedral \nThis Introduction to Peterborough Cathedral will provide an overview of the institution and building which has been at the heart of Peterborough since a monastery was first founded here in 655AD. \nThe Cathedral is an icon for the city\, its historic core\, and a living place of worship. This talk looks at the remarkable history of the Cathedral and its site. \nSpeaker: Stuart Orme\, Curator of the Cromwell Museum in Huntingdon and former Director of Operations at Peterborough Cathedral \nFREE for FRAG Members
URL:https://peterborougharchaeology.org/event/peterborough-cathedral/
LOCATION:Paston and Gunthorpe Community Centre\, Hallfields Lane\, Peterborough\, PE4 7YH
CATEGORIES:FRAG
ATTACH;FMTTYPE=image/jpeg:https://peterborougharchaeology.org/wp-content/uploads/2021/10/peterborough-cathedral-new-building-ceiling.jpg
ORGANIZER;CN="FRAG":MAILTO:enquiries@peterborougharchaeology.org
END:VEVENT
BEGIN:VEVENT
DTSTART;VALUE=DATE:20220525
DTEND;VALUE=DATE:20220530
DTSTAMP:20260421T154444
CREATED:20220502T141918Z
LAST-MODIFIED:20220512T083128Z
UID:7191-1653436800-1653868799@peterborougharchaeology.org
SUMMARY:DIG: Itter Crescent Villa - POSTPONED
DESCRIPTION:EXCAVATION: Fane Road Allotments – Itter Crescent Roman Villa \nEXCAVATION POSTPONED \nWe have not been granted the necessary permission by Peterborough City Council to undertake this dig. This is particularly disappointing since we had an agreed outline plan for our investigations\, the work is undertaken in a structured and professional manner\, and we seek to maximise community awareness and involvement.  \nA large Roman villa was discovered in 2011 prior to construction of new houses between Itter Crescent and Fane Road. There  was a community dig in 2014 and since then FRAG has undertaken further archaeological excavations on the Fane Road Allotment Site to ascertain the full extent of the buildings. \nA brief excavation (Wed 25th to Sunday 29th May) will continue to explore the walls unearthed during recent digs. \nThe community excavation gave clues as to the layout of the southern elements of the impressive villa but detailed interpretation of the remains is still uncertain. \nYou don’t need to have experience\, and you don’t need to commit for the full duration. You do need to register in advance by completing the online application form. \nFRAG Members Only\n(though members of Fane Road Allotment Association\, and JIGSAW affiliated groups may also participate)
URL:https://peterborougharchaeology.org/event/dig-itter-crescent-villa/
LOCATION:Fane Road Allotments\, PE4 6SW
CATEGORIES:FRAG
ATTACH;FMTTYPE=image/jpeg:https://peterborougharchaeology.org/wp-content/uploads/2017/10/DJI_0378b.jpg
ORGANIZER;CN="FRAG":MAILTO:enquiries@peterborougharchaeology.org
END:VEVENT
END:VCALENDAR