BEGIN:VCALENDAR
VERSION:2.0
PRODID:-//Peterborough Archaeology - ECPv6.15.20//NONSGML v1.0//EN
CALSCALE:GREGORIAN
METHOD:PUBLISH
X-WR-CALNAME:Peterborough Archaeology
X-ORIGINAL-URL:https://peterborougharchaeology.org
X-WR-CALDESC:Events for Peterborough Archaeology
REFRESH-INTERVAL;VALUE=DURATION:PT1H
X-Robots-Tag:noindex
X-PUBLISHED-TTL:PT1H
BEGIN:VTIMEZONE
TZID:UTC
BEGIN:STANDARD
TZOFFSETFROM:+0000
TZOFFSETTO:+0000
TZNAME:UTC
DTSTART:20200101T000000
END:STANDARD
END:VTIMEZONE
BEGIN:VEVENT
DTSTART;VALUE=DATE:20211008
DTEND;VALUE=DATE:20211013
DTSTAMP:20260422T051219
CREATED:20210925T155051Z
LAST-MODIFIED:20210928T165916Z
UID:6644-1633651200-1634083199@peterborougharchaeology.org
SUMMARY:EXCAVATION: Fane Road Roman Villa
DESCRIPTION:EXCAVATION: Fane Road Allotments – Roman Villa \nA large Roman villa was discovered in 2011 prior to construction of new houses between Itter Crescent and Fane Road. The Heritage Lottery funded ‘Romans of Fane Road’ excavation was undertaken in 2014. Since then FRAG has undertaken further archaeological excavations on the Fane Road Allotment Site to ascertain the full extent of the building. \nThis will be our first chance to return to the features partially revealed in our May 2019 excavation. \nFRAG Members Only\n(though members of FR Allotment Association\, and JIGSAW affiliated groups may also participate) \nIf you are interested to participate please download the application form and submit to fieldofficer@peterborougharchaeology.org. Kevin Redgate will be in touch. \nVenue\nFane Road Allotments\, Fane Road\, Peterborough. Access will be via the gate off the footpath on the Itter Park side of the allotments. \nDates & Times\nFriday 8th October to Tuesday 12th October from 8.00am to 4.30pm daily. \nExcavation Strategy\nFirstly\, to determine the east and north extents of the wall revealed in the May 19 excavation in order to identify any returns (north or south) and/or any intermediate wall junctions. \nSecondly\, attempt to locate the east Iron-Age boundary ditch revealed by the 2012 commercial excavation to extend into the allotments east of the track that terminates on the north fence-line. \nFurther Information \nApplication\nAll participants must complete the application form and have their attendance confirmed. \nDownload Application Form \n  \n 
URL:https://peterborougharchaeology.org/event/excavation-fane-road-roman-villa/
CATEGORIES:FRAG
ATTACH;FMTTYPE=image/jpeg:https://peterborougharchaeology.org/wp-content/uploads/2017/10/DJI_0378b.jpg
ORGANIZER;CN="FRAG":MAILTO:enquiries@peterborougharchaeology.org
END:VEVENT
END:VCALENDAR