BEGIN:VCALENDAR
VERSION:2.0
PRODID:-//Peterborough Archaeology - ECPv6.15.20//NONSGML v1.0//EN
CALSCALE:GREGORIAN
METHOD:PUBLISH
X-WR-CALNAME:Peterborough Archaeology
X-ORIGINAL-URL:https://peterborougharchaeology.org
X-WR-CALDESC:Events for Peterborough Archaeology
REFRESH-INTERVAL;VALUE=DURATION:PT1H
X-Robots-Tag:noindex
X-PUBLISHED-TTL:PT1H
BEGIN:VTIMEZONE
TZID:UTC
BEGIN:STANDARD
TZOFFSETFROM:+0000
TZOFFSETTO:+0000
TZNAME:UTC
DTSTART:20200101T000000
END:STANDARD
END:VTIMEZONE
BEGIN:VEVENT
DTSTART;TZID=UTC:20210906T190000
DTEND;TZID=UTC:20210906T190000
DTSTAMP:20260422T071254
CREATED:20201222T092346Z
LAST-MODIFIED:20210903T084749Z
UID:5785-1630954800-1630954800@peterborougharchaeology.org
SUMMARY:Open Mic & FRAG AGM
DESCRIPTION:We re-start our regular programme of talks with this event postponed from April 2020. The evening will be in two parts. First we need to catch up with the brief formalities of our Annual General Meeting then we have an “Open Mic” session delivered by FRAG members. \n  \nANNUAL GENERAL MEETING \nAll are welcome to attend and help shape the development of the group. The AGM is likely to last less than 30 mins. \nAgenda \nMinutes of Last AGM (2019) \n  \nOPEN MIC \nThis is a chance for FRAG members to share recent or favourite archaeology stories. Places visited. Objects found. Digs\, Museums\, Exhibitions etc\, etc. Each “talk” will be 5 to 10 minutes. This part of the evening will last for about an hour. \nA number of members have offered to talk on topics of their choice. Expect to learn more about: \n\nDating English houses from exterior features\nThe Archaeology of Bulgaria\nThe medieval Manor House of Longthorpe\nRoman Face Pots\n\n  \nFREE for FRAG Members \n 
URL:https://peterborougharchaeology.org/event/open-mic-annual-general-meeting-2/
LOCATION:Parkway Sports Club\, Maskew Avenue\, Peterborough\, PE1 2AS
CATEGORIES:FRAG
ATTACH;FMTTYPE=image/jpeg:https://peterborougharchaeology.org/wp-content/uploads/2017/06/fane-road-roman-artist-200.jpg
ORGANIZER;CN="FRAG":MAILTO:enquiries@peterborougharchaeology.org
END:VEVENT
BEGIN:VEVENT
DTSTART;TZID=UTC:20210912T103000
DTEND;TZID=UTC:20210912T103000
DTSTAMP:20260422T071254
CREATED:20210819T105402Z
LAST-MODIFIED:20210911T112310Z
UID:6605-1631442600-1631442600@peterborougharchaeology.org
SUMMARY:VISIT: Sawtry Abbey
DESCRIPTION:REGISTRATION FOR THIS EVENT HAS NOW CLOSED \nSawtry Abbey was a Cistercian monastery consecrated in 1238. The abbey never achieved great prominence but it was visited by Kings\, and in 1536 Catherine of Aragon’s body rested there when her funeral cortege broke its journey from Kimbolton Castle to Peterborough. \nDuring the visit you will be able to relate the remaining lumps and bumps in the landscape to the original design of the abbey. You will also learn about the origins and spread of the Cistercian Order. \nThis outdoor event will involve a stroll lasting 60 to 90 minutes. Walking will be on tracks and an uneven\, largely over-grown field. The presence of cattle mean dogs and under-16s cannot join the visit. There are no toilet facilities.  All participants need to pre-register. Numbers will be capped \nRegistration will open on Saturday 21st August. FRAG members will be given priority until 28th August. Thereafter it will be first come\, first served for all. Register using the form below. \nFree for FRAG Members\n£5 for Non Members (to be collected at the event) \nSince 2016 a project by the Sawtry History Society has been undertaking research including a resistivity survey to verify earlier records of the abbey. The project has been led by Kevin Redgate and Phil Hill who will be our guides for this visit. \nYou can find out more background about the abbey both on the Peterborough Archaeology website – and on the Sawtry Archaeology website where there are a series of “leaflets” available.
URL:https://peterborougharchaeology.org/event/visit-sawtry-abbey/
CATEGORIES:FRAG
ATTACH;FMTTYPE=image/jpeg:https://peterborougharchaeology.org/wp-content/uploads/2021/08/sawtry-abbey-600.jpg
ORGANIZER;CN="FRAG":MAILTO:enquiries@peterborougharchaeology.org
END:VEVENT
END:VCALENDAR