BEGIN:VCALENDAR
VERSION:2.0
PRODID:-//Peterborough Archaeology - ECPv6.15.20//NONSGML v1.0//EN
CALSCALE:GREGORIAN
METHOD:PUBLISH
X-ORIGINAL-URL:https://peterborougharchaeology.org
X-WR-CALDESC:Events for Peterborough Archaeology
REFRESH-INTERVAL;VALUE=DURATION:PT1H
X-Robots-Tag:noindex
X-PUBLISHED-TTL:PT1H
BEGIN:VTIMEZONE
TZID:UTC
BEGIN:STANDARD
TZOFFSETFROM:+0000
TZOFFSETTO:+0000
TZNAME:UTC
DTSTART:20200101T000000
END:STANDARD
END:VTIMEZONE
BEGIN:VEVENT
DTSTART;TZID=UTC:20210626T110000
DTEND;TZID=UTC:20210626T110000
DTSTAMP:20260422T123136
CREATED:20210610T075008Z
LAST-MODIFIED:20210617T075719Z
UID:6483-1624705200-1624705200@peterborougharchaeology.org
SUMMARY:VISIT: Guided Walk around Fotheringhay
DESCRIPTION:Learn about the historic village of Fotheringhay from local archaeologist\, Dr Stephen Upex. \nThe story of Fotheringhay can be seen in its buildings and local landscape. This guided walk will also help you understand the clues to look for when exploring the history of other locations. \nThis outdoor event will involve a gentle stroll lasting 60 to 90 minutes. Walking will be predominantly on pavements but may include rough tracks and grass. Numbers will be limited to 25.  Following the walk we hope there may be an opportunity\, for those who wish\, to enjoy an outdoor pub lunch at the Falcon. All participants need to pre-register. \nFRAG members will be given priority until 16th June. Thereafter it will be first come\, first served for all. \nFree for FRAG Members\n£5 for Non Members \nSORRY – THERE ARE NO MORE PLACES AVAILABLE \nDr Stephen Upex has written on a wide variety of topics related to British landscape history and archaeology and his interests range from prehistoric settlement\, Roman and Saxon farming to medieval open fields systems. He has excavated widely and wrote a book on the Romans in the East of England. A new book on the Romans in the Peterborough area is due to be published soon. Stephen lectures at the University of Cambridge\, is a member of the Chartered Institute for Field Archaeologists and a Fellow of the Society of Antiquaries of London.
URL:https://peterborougharchaeology.org/event/visit-guided-walk-around-fotheringhay/
CATEGORIES:FRAG
ATTACH;FMTTYPE=image/jpeg:https://peterborougharchaeology.org/wp-content/uploads/2021/06/fotheringhay-23april21.jpg
ORGANIZER;CN="FRAG":MAILTO:enquiries@peterborougharchaeology.org
END:VEVENT
END:VCALENDAR